BEGIN:VCALENDAR
VERSION:2.0
PRODID:-//Godoy Cruz - ECPv4.5.8.1//NONSGML v1.0//EN
CALSCALE:GREGORIAN
METHOD:PUBLISH
X-WR-CALNAME:Godoy Cruz
X-ORIGINAL-URL:https://www.godoycruz.gob.ar
X-WR-CALDESC:Events for Godoy Cruz
BEGIN:VEVENT
DTSTART;TZID=UTC-3:20180602T213000
DTEND;TZID=UTC-3:20180602T213000
DTSTAMP:20260424T131145
CREATED:20180531T164959Z
LAST-MODIFIED:20180601T174017Z
UID:49893-1527975000-1527975000@www.godoycruz.gob.ar
SUMMARY:Recital en vivo de la banda Chancho Va
DESCRIPTION:[vc_row][vc_column][vc_column_text]La banda mendocina vuelve a los escenarios con todo su cargamento de altos decibeles\, una formación renovada y nuevas canciones. \n[/vc_column_text][/vc_column][/vc_row][vc_row][vc_column][vc_single_image image=»49888″ img_size=»full»][/vc_column][/vc_row] \n
URL:https://www.godoycruz.gob.ar/evento/recital-vivo-la-banda-chancho-va/
LOCATION:Tomba 54\, Godoy Cruz\, Mendoza\, 5501\, Argentina
ATTACH;FMTTYPE=image/jpeg:https://www.godoycruz.gob.ar/wp-content/uploads/2018/05/GRILLA-JUNIO-sabado2-chancho-va.jpg
END:VEVENT
END:VCALENDAR