BEGIN:VCALENDAR
VERSION:2.0
PRODID:-//Godoy Cruz - ECPv4.5.8.1//NONSGML v1.0//EN
CALSCALE:GREGORIAN
METHOD:PUBLISH
X-WR-CALNAME:Godoy Cruz
X-ORIGINAL-URL:https://www.godoycruz.gob.ar
X-WR-CALDESC:Events for Godoy Cruz
BEGIN:VEVENT
DTSTART;TZID=UTC-3:20180603T163000
DTEND;TZID=UTC-3:20180603T163000
DTSTAMP:20260424T113136
CREATED:20180529T173815Z
LAST-MODIFIED:20180529T173815Z
UID:49782-1528043400-1528043400@www.godoycruz.gob.ar
SUMMARY:4° Edición Leru Leru Festival de Teatro para Niños y Niñas
DESCRIPTION:[vc_row][vc_column][vc_column_text]Obra: “ECOlocados”. Elenco Amorarte. Función de apertura. \nPara todo público. \nEstación de los Niños y Niñas (Parque Estación Benegas) \nActúan: Daniel Bustos y Rocío Rodríguez. Texto y Dirección: Ecolocados.[/vc_column_text][/vc_column][/vc_row][vc_row][vc_column][vc_single_image image=»49783″ img_size=»full»][/vc_column][/vc_row][vc_row][vc_column][vc_gmaps link=»#E-8_JTNDaWZyYW1lJTIwc3JjJTNEJTIyaHR0cHMlM0ElMkYlMkZ3d3cuZ29vZ2xlLmNvbSUyRm1hcHMlMkZlbWJlZCUzRnBiJTNEJTIxMW0xOCUyMTFtMTIlMjExbTMlMjExZDMzNDcuOTY3NDExOTM5OTAyNCUyMTJkLTY4Ljg1NjA3MTM4NTMxMjY1JTIxM2QtMzIuOTUxODY5Nzc5NDgxNyUyMTJtMyUyMTFmMCUyMTJmMCUyMTNmMCUyMTNtMiUyMTFpMTAyNCUyMTJpNzY4JTIxNGYxMy4xJTIxM20zJTIxMW0yJTIxMXMweDk2N2UwYmI0NGQ2YjcxODklMjUzQTB4ZjBmZWVhZGQ0ZmMyMTkwYiUyMTJzUGFycXVlJTJCQmVuZWdhcyUyNTJDJTJCR29kb3klMkJDcnV6JTIxNWUwJTIxM20yJTIxMXNlcy00MTklMjEyc2FyJTIxNHYxNTI3NjE1MTYwMzU5JTIyJTIwd2lkdGglM0QlMjI2MDAlMjIlMjBoZWlnaHQlM0QlMjI0NTAlMjIlMjBmcmFtZWJvcmRlciUzRCUyMjAlMjIlMjBzdHlsZSUzRCUyMmJvcmRlciUzQTAlMjIlMjBhbGxvd2Z1bGxzY3JlZW4lM0UlM0MlMkZpZnJhbWUlM0U=»][/vc_column][/vc_row] \n
URL:https://www.godoycruz.gob.ar/evento/4-edicion-leru-leru-festival-teatro-ninos-ninas/
ATTACH;FMTTYPE=image/jpeg:https://www.godoycruz.gob.ar/wp-content/uploads/2018/05/Ecolocados.jpg
END:VEVENT
BEGIN:VEVENT
DTSTART;TZID=UTC-3:20180603T170000
DTEND;TZID=UTC-3:20180603T170000
DTSTAMP:20260424T113136
CREATED:20180601T181750Z
LAST-MODIFIED:20180601T181750Z
UID:49963-1528045200-1528045200@www.godoycruz.gob.ar
SUMMARY:Ciclo Mediateca infantil
DESCRIPTION:[vc_row][vc_column][vc_single_image image=»49964″ img_size=»full»][/vc_column][/vc_row] \n
URL:https://www.godoycruz.gob.ar/evento/ciclo-mediateca-infantil-5/
LOCATION:Tomba 54\, Godoy Cruz\, Mendoza\, 5501\, Argentina
ATTACH;FMTTYPE=image/jpeg:https://www.godoycruz.gob.ar/wp-content/uploads/2018/06/web-Mediateca-Infantil-44.jpg
END:VEVENT
END:VCALENDAR