BEGIN:VCALENDAR
VERSION:2.0
PRODID:-//Godoy Cruz - ECPv4.5.8.1//NONSGML v1.0//EN
CALSCALE:GREGORIAN
METHOD:PUBLISH
X-WR-CALNAME:Godoy Cruz
X-ORIGINAL-URL:https://www.godoycruz.gob.ar
X-WR-CALDESC:Events for Godoy Cruz
BEGIN:VEVENT
DTSTART;TZID=UTC-3:20180608T100000
DTEND;TZID=UTC-3:20180608T100000
DTSTAMP:20260424T015234
CREATED:20180529T183337Z
LAST-MODIFIED:20180529T183337Z
UID:49803-1528452000-1528452000@www.godoycruz.gob.ar
SUMMARY:4° Edición Leru Leru Festival de Teatro para Niños y Niñas
DESCRIPTION:[vc_row][vc_column][vc_column_text]Obra: “Chocolate. Una historia en cuatro patas” (Entradas agotadas). \nTamarí Teatro. Función para escuelas. \nActúan: Nuria Atencio\, Paloma Arsac\,  Marcos Muñoz. Manipuladora: Rocio Manzano. Dirección General: Ruth Reinoso. \nCentro Cultural La Colombina (Balcarce 220\, Godoy Cruz). \nDos funciones: 10:00 y 15:00[/vc_column_text][/vc_column][/vc_row][vc_row][vc_column][vc_single_image image=»49804″ img_size=»full»][/vc_column][/vc_row][vc_row][vc_column][vc_gmaps link=»#E-8_JTNDaWZyYW1lJTIwc3JjJTNEJTIyaHR0cHMlM0ElMkYlMkZ3d3cuZ29vZ2xlLmNvbSUyRm1hcHMlMkZlbWJlZCUzRnBiJTNEJTIxMW0xOCUyMTFtMTIlMjExbTMlMjExZDMzNDkuMDcyNTAwODY2NjI3JTIxMmQtNjguODQ0MzU4MTg1MzEzNzIlMjEzZC0zMi45MjI2ODI2NzgwMDQ1MzQlMjEybTMlMjExZjAlMjEyZjAlMjEzZjAlMjEzbTIlMjExaTEwMjQlMjEyaTc2OCUyMTRmMTMuMSUyMTNtMyUyMTFtMiUyMTFzMHg5NjdlMDk2MjM3ZmU4Y2Y5JTI1M0EweGYyMzc3ZjMwZmQ1NjliYTklMjEyc0xhJTJCQ29sb21iaW5hJTIxNWUwJTIxM20yJTIxMXNlcy00MTklMjEyc2FyJTIxNHYxNTI3NjE4Njk2NTQ0JTIyJTIwd2lkdGglM0QlMjI0MDAlMjIlMjBoZWlnaHQlM0QlMjIzMDAlMjIlMjBmcmFtZWJvcmRlciUzRCUyMjAlMjIlMjBzdHlsZSUzRCUyMmJvcmRlciUzQTAlMjIlMjBhbGxvd2Z1bGxzY3JlZW4lM0UlM0MlMkZpZnJhbWUlM0U=»][/vc_column][/vc_row] \n
URL:https://www.godoycruz.gob.ar/evento/4-edicion-leru-leru-festival-teatro-ninos-ninas-5/
ATTACH;FMTTYPE=image/png:https://www.godoycruz.gob.ar/wp-content/uploads/2018/05/chocolate-10.png
END:VEVENT
BEGIN:VEVENT
DTSTART;TZID=UTC-3:20180608T210000
DTEND;TZID=UTC-3:20180608T210000
DTSTAMP:20260424T015234
CREATED:20180425T173412Z
LAST-MODIFIED:20180425T173412Z
UID:48935-1528491600-1528491600@www.godoycruz.gob.ar
SUMMARY:“Un rato con él”
DESCRIPTION:[vc_row][vc_column][vc_column_text]El suceso teatral comienza su gira en distintas ciudades del interior del país y también en Uruguay y Paraguay. \nAutor: Julio Chávez\, Camila Mansilla. \nDirección: Daniel Barone. \nElenco: Julio Chávez\, Adrián Suar\, Marcelo D’Andrea\, Nina Spinetta\, Francisco Lumerman. \nProducción Ejecutiva: Edgardo Ariel Alba. Producción General: Adrián Suar\, Nacho Laviaguerre. \nEntradas en venta en boletería del teatro. Venta online: 1000tickets.com.ar.[/vc_column_text][/vc_column][/vc_row][vc_row][vc_column][vc_single_image image=»48936″ img_size=»full»][/vc_column][/vc_row] \n
URL:https://www.godoycruz.gob.ar/evento/un-rato-con-el/
LOCATION:Colón 27\, Godoy Cruz\, Mendoza\, 5501\, Argentina
ATTACH;FMTTYPE=image/jpeg:https://www.godoycruz.gob.ar/wp-content/uploads/2018/04/Un-rato-con-el-Aviso-diario.jpg
END:VEVENT
BEGIN:VEVENT
DTSTART;TZID=UTC-3:20180608T220000
DTEND;TZID=UTC-3:20180608T220000
DTSTAMP:20260424T015234
CREATED:20180531T182928Z
LAST-MODIFIED:20180531T182928Z
UID:49900-1528495200-1528495200@www.godoycruz.gob.ar
SUMMARY:Impros Mínimas
DESCRIPTION:[vc_row][vc_column][vc_column_text]Elenco: Tostadora Teatro. Idea Original: Sergio Paris. \nSinopsis: Obra de teatro improvisada\, de principio a fin\, que representa situaciones cotidianas en tiempo real\, con una serie de personajes comunes y complejos a la vez.[/vc_column_text][/vc_column][/vc_row][vc_row][vc_column][vc_single_image image=»49901″ img_size=»full»][/vc_column][/vc_row] \n
URL:https://www.godoycruz.gob.ar/evento/impros-minimas/
LOCATION:Tomba 54\, Godoy Cruz\, Mendoza\, 5501\, Argentina
ATTACH;FMTTYPE=image/jpeg:https://www.godoycruz.gob.ar/wp-content/uploads/2018/05/Minimas-8-y-22-junio-1.jpg
END:VEVENT
END:VCALENDAR