BEGIN:VCALENDAR
VERSION:2.0
PRODID:-//Godoy Cruz - ECPv4.5.8.1//NONSGML v1.0//EN
CALSCALE:GREGORIAN
METHOD:PUBLISH
X-WR-CALNAME:Godoy Cruz
X-ORIGINAL-URL:https://www.godoycruz.gob.ar
X-WR-CALDESC:Events for Godoy Cruz
BEGIN:VEVENT
DTSTART;TZID=UTC-3:20180609T210000
DTEND;TZID=UTC-3:20180609T210000
DTSTAMP:20260423T235823
CREATED:20180425T174134Z
LAST-MODIFIED:20180425T174134Z
UID:48940-1528578000-1528578000@www.godoycruz.gob.ar
SUMMARY:“Un rato con él”
DESCRIPTION:[vc_row][vc_column][vc_column_text]El suceso teatral comienza su gira en distintas ciudades del interior del país y también en Uruguay y Paraguay. \nAutor: Julio Chávez\, Camila Mansilla. \nDirección: Daniel Barone. \nElenco: Julio Chávez\, Adrián Suar\, Marcelo D’Andrea\, Nina Spinetta\, Francisco Lumerman. \nProducción Ejecutiva: Edgardo Ariel Alba. Producción General: Adrián Suar\, Nacho Laviaguerre. \nEntradas en venta en boletería del teatro. Venta online: 1000tickets.com.ar.[/vc_column_text][/vc_column][/vc_row][vc_row][vc_column][vc_single_image image=»48936″ img_size=»full»][/vc_column][/vc_row] \n
URL:https://www.godoycruz.gob.ar/evento/un-rato-con-el-2/
LOCATION:Colón 27\, Godoy Cruz\, Mendoza\, 5501\, Argentina
ATTACH;FMTTYPE=image/jpeg:https://www.godoycruz.gob.ar/wp-content/uploads/2018/04/Un-rato-con-el-Aviso-diario.jpg
END:VEVENT
BEGIN:VEVENT
DTSTART;TZID=UTC-3:20180609T210000
DTEND;TZID=UTC-3:20180609T210000
DTSTAMP:20260423T235823
CREATED:20180608T182602Z
LAST-MODIFIED:20180608T182602Z
UID:50233-1528578000-1528578000@www.godoycruz.gob.ar
SUMMARY:Muestra académica
DESCRIPTION:[vc_row][vc_column][vc_column_text]Alumnos de canto de la escuela de la reconocida cantante Susana Jerez[/vc_column_text][/vc_column][/vc_row][vc_row][vc_column][vc_single_image image=»50235″ img_size=»full»][/vc_column][/vc_row] \n
URL:https://www.godoycruz.gob.ar/evento/muestra-academica/
LOCATION:Tomba 54\, Godoy Cruz\, Mendoza\, 5501\, Argentina
ATTACH;FMTTYPE=image/jpeg:https://www.godoycruz.gob.ar/wp-content/uploads/2018/06/GRILLA-JUNIO-web-1.jpg
END:VEVENT
END:VCALENDAR