BEGIN:VCALENDAR
VERSION:2.0
PRODID:-//Godoy Cruz - ECPv4.5.8.1//NONSGML v1.0//EN
CALSCALE:GREGORIAN
METHOD:PUBLISH
X-WR-CALNAME:Godoy Cruz
X-ORIGINAL-URL:https://www.godoycruz.gob.ar
X-WR-CALDESC:Events for Godoy Cruz
BEGIN:VEVENT
DTSTART;TZID=UTC-3:20180613T210000
DTEND;TZID=UTC-3:20180613T210000
DTSTAMP:20260423T174528
CREATED:20180606T164712Z
LAST-MODIFIED:20180608T174313Z
UID:50166-1528923600-1528923600@www.godoycruz.gob.ar
SUMMARY:Apertura de la 5º Semana de las Letras
DESCRIPTION:[vc_row][vc_column][vc_column_text]Stand de libros. \nEspectáculo: “Casciari lee cuentos de fútbol”\, de Hernán Casciari. \nEl reconocido escritor trae sus mejores relatos\, que combinan magistralmente fútbol y literatura. \nEntrada gratuita (limitada a la capacidad de la sala). Las mismas se retiran en la boletería del Teatro hasta agotar la capacidad de la sala.[/vc_column_text][/vc_column][/vc_row][vc_row][vc_column][vc_single_image image=»50230″ img_size=»full»][/vc_column][/vc_row] \n
URL:https://www.godoycruz.gob.ar/evento/apertura-la-5o-semana-las-letras-2/
LOCATION:Colón 27\, Godoy Cruz\, Mendoza\, 5501\, Argentina
ATTACH;FMTTYPE=image/jpeg:https://www.godoycruz.gob.ar/wp-content/uploads/2018/06/semana-de-las-letras-individuales-CASCIARI-13-6.jpg
END:VEVENT
END:VCALENDAR