BEGIN:VCALENDAR
VERSION:2.0
PRODID:-//Godoy Cruz - ECPv4.5.8.1//NONSGML v1.0//EN
CALSCALE:GREGORIAN
METHOD:PUBLISH
X-WR-CALNAME:Godoy Cruz
X-ORIGINAL-URL:https://www.godoycruz.gob.ar
X-WR-CALDESC:Events for Godoy Cruz
BEGIN:VEVENT
DTSTART;TZID=UTC-3:20180623T210000
DTEND;TZID=UTC-3:20180623T210000
DTSTAMP:20260424T071837
CREATED:20180622T143522Z
LAST-MODIFIED:20180622T143522Z
UID:50558-1529787600-1529787600@www.godoycruz.gob.ar
SUMMARY:"Bruno"
DESCRIPTION:[vc_row][vc_column][vc_column_text]Obra de títeres\, máscaras\, narración y música  en vivo. \nDestinada a: jóvenes y adultos. Elenco: Giraluna – Títeres. \nAutora: Liliana Bodoc (inspirada en el cuento: “Negro”). \nDirección: Adriana Sobrero (Bs. As.). \nAsistente de dirección: Alejandro Manzano.[/vc_column_text][/vc_column][/vc_row][vc_row][vc_column][vc_single_image image=»50559″ img_size=»full»][/vc_column][/vc_row] \n
URL:https://www.godoycruz.gob.ar/evento/bruno/
LOCATION:Tomba 54\, Godoy Cruz\, Mendoza\, 5501\, Argentina
ATTACH;FMTTYPE=image/jpeg:https://www.godoycruz.gob.ar/wp-content/uploads/2018/06/GRILLA-JUNIO-23bruno-1.jpg
END:VEVENT
BEGIN:VEVENT
DTSTART;TZID=UTC-3:20180623T213000
DTEND;TZID=UTC-3:20180623T213000
DTSTAMP:20260424T071837
CREATED:20180612T155733Z
LAST-MODIFIED:20180612T155733Z
UID:50292-1529789400-1529789400@www.godoycruz.gob.ar
SUMMARY:Los sonidos de la buena memoria
DESCRIPTION:[vc_row][vc_column][vc_column_text]Puesta teatral y musical en homenaje al rock nacional \nDirección musical y artística: Hugo Arcidiácono. \nGuion: Fernando G. Toledo. \nArtistas: integrantes de la Orquesta Escuela de Niños y Jóvenes de la Municipalidad de General San Martín. \nValor de la entrada: $150. En venta en la boletería del teatro[/vc_column_text][/vc_column][/vc_row][vc_row][vc_column][vc_single_image image=»50293″ img_size=»full»][/vc_column][/vc_row] \n
URL:https://www.godoycruz.gob.ar/evento/los-sonidos-la-buena-memoria/
LOCATION:Colón 27\, Godoy Cruz\, Mendoza\, 5501\, Argentina
ATTACH;FMTTYPE=image/jpeg:https://www.godoycruz.gob.ar/wp-content/uploads/2018/06/web-los-sonidos-1.jpg
END:VEVENT
END:VCALENDAR