BEGIN:VCALENDAR
VERSION:2.0
PRODID:-//Godoy Cruz - ECPv4.5.8.1//NONSGML v1.0//EN
CALSCALE:GREGORIAN
METHOD:PUBLISH
X-WR-CALNAME:Godoy Cruz
X-ORIGINAL-URL:https://www.godoycruz.gob.ar
X-WR-CALDESC:Events for Godoy Cruz
BEGIN:VEVENT
DTSTART;TZID=UTC-3:20180627T100000
DTEND;TZID=UTC-3:20180627T100000
DTSTAMP:20260424T142908
CREATED:20180622T021138Z
LAST-MODIFIED:20180622T021138Z
UID:50501-1530093600-1530093600@www.godoycruz.gob.ar
SUMMARY:V Encuentro Internacional de Títeres Javier Villafañe
DESCRIPTION:[vc_row][vc_column][vc_column_text]Funciones para escuelas de Mendoza (10:00 y 15:00)  \nObra: “Sapo en Buenos Aires”.  \nElenco: La Ópera Encandilada (La Plata). \nEntrada general: $20.  \nInformes e inscripciones: 4133250/ 261 6586 820 (Laura) / 261 5761 211 (Cristina)[/vc_column_text][/vc_column][/vc_row][vc_row][vc_column][vc_single_image image=»50497″ img_size=»full»][/vc_column][/vc_row] \n
URL:https://www.godoycruz.gob.ar/evento/v-encuentro-internacional-titeres-javier-villafane/
LOCATION:Colón 27\, Godoy Cruz\, Mendoza\, 5501\, Argentina
ATTACH;FMTTYPE=image/jpeg:https://www.godoycruz.gob.ar/wp-content/uploads/2018/06/Javier-Villafañe.jpg
END:VEVENT
BEGIN:VEVENT
DTSTART;TZID=UTC-3:20180627T183000
DTEND;TZID=UTC-3:20180627T183000
DTSTAMP:20260424T142908
CREATED:20180622T023440Z
LAST-MODIFIED:20180622T023440Z
UID:50505-1530124200-1530124200@www.godoycruz.gob.ar
SUMMARY:V Encuentro Internacional de Títeres Javier Villafañe - Capacitación
DESCRIPTION:[vc_row][vc_column][vc_column_text]Del miércoles 27 al viernes  29. \nActividad: Taller de Marionetas. Destinado a mayores de 18 años. Gratuito (Cupos agotados). \nDictado por: Soledad Lavítola (Mar del Plata). \nLugar: Centro Patrimonial Artístico Cristoforo Colombo (Tomba 246). \nHora: de 18:30 a 20:30. \nInformes: 4133250/ 261 6586 820 (Laura) / 261 5761 211 (Cristina).[/vc_column_text][/vc_column][/vc_row][vc_row][vc_column][vc_single_image image=»50497″ img_size=»full»][/vc_column][/vc_row][vc_row][vc_column][vc_gmaps link=»#E-8_JTNDaWZyYW1lJTIwc3JjJTNEJTIyaHR0cHMlM0ElMkYlMkZ3d3cuZ29vZ2xlLmNvbSUyRm1hcHMlMkZlbWJlZCUzRnBiJTNEJTIxMW0xOCUyMTFtMTIlMjExbTMlMjExZDMzNDkuMDk3NzEwNjQ5MjA3JTIxMmQtNjguODQ1MDYxMjg1MTk5MTElMjEzZC0zMi45MjIwMTY1ODA5MjgzNjQlMjEybTMlMjExZjAlMjEyZjAlMjEzZjAlMjEzbTIlMjExaTEwMjQlMjEyaTc2OCUyMTRmMTMuMSUyMTNtMyUyMTFtMiUyMTFzMHg5NjdlMDk2M2IyOGYwNTA5JTI1M0EweDk3NDVhYzA2YTNkNTc4ODElMjEyc0NlbnRybyUyQlBhdHJpbW9uaWFsJTJCeSUyQkFydCUyNUMzJTI1QURzdGljbyUyQkNyaXN0b2Zvcm8lMkJDb2xvbWJvJTIxNWUwJTIxM20yJTIxMXNlcy00MTklMjEyc2FyJTIxNHYxNTI5NjM0NjAzNjg5JTIyJTIwd2lkdGglM0QlMjI0MDAlMjIlMjBoZWlnaHQlM0QlMjIzMDAlMjIlMjBmcmFtZWJvcmRlciUzRCUyMjAlMjIlMjBzdHlsZSUzRCUyMmJvcmRlciUzQTAlMjIlMjBhbGxvd2Z1bGxzY3JlZW4lM0UlM0MlMkZpZnJhbWUlM0U=»][/vc_column][/vc_row] \n
URL:https://www.godoycruz.gob.ar/evento/v-encuentro-internacional-titeres-javier-villafane-capacitacion/
LOCATION:Mendoza
ATTACH;FMTTYPE=image/jpeg:https://www.godoycruz.gob.ar/wp-content/uploads/2018/06/Javier-Villafañe.jpg
END:VEVENT
END:VCALENDAR