BEGIN:VCALENDAR
VERSION:2.0
PRODID:-//Godoy Cruz - ECPv4.5.8.1//NONSGML v1.0//EN
CALSCALE:GREGORIAN
METHOD:PUBLISH
X-WR-CALNAME:Godoy Cruz
X-ORIGINAL-URL:https://www.godoycruz.gob.ar
X-WR-CALDESC:Events for Godoy Cruz
BEGIN:VEVENT
DTSTART;TZID=UTC-3:20180709T110000
DTEND;TZID=UTC-3:20180709T110000
DTSTAMP:20260425T113851
CREATED:20180702T171026Z
LAST-MODIFIED:20180702T171026Z
UID:50690-1531134000-1531134000@www.godoycruz.gob.ar
SUMMARY:Festejamos la Independencia
DESCRIPTION:[vc_row][vc_column][vc_column_text]1º concurso de asadores de la región. Danzas típicas. Espectáculos musicales. \nArtistas: Willy Chavero; Sebastián Garay; Las Viejas Bonitas; Ballet Folklórico de Godoy Cruz y Ballet Sangre Cuyana. Cierre: Coqui Sosa presenta “Homenaje a Mercedes Sosa…la Cantora del Pueblo”. \nLugar: Parque Estación Benegas (Av. Del Trabajo y Panamericana). De 11:00 a 18:00.  \nEntrada libre y gratuita.[/vc_column_text][/vc_column][/vc_row][vc_row][vc_column][vc_single_image image=»50691″ img_size=»full»][/vc_column][/vc_row][vc_row][vc_column][vc_gmaps link=»#E-8_JTNDaWZyYW1lJTIwc3JjJTNEJTIyaHR0cHMlM0ElMkYlMkZ3d3cuZ29vZ2xlLmNvbSUyRm1hcHMlMkZlbWJlZCUzRnBiJTNEJTIxMW0xOCUyMTFtMTIlMjExbTMlMjExZDMzNDcuOTQ3MjYxMTEyNzg2MiUyMTJkLTY4Ljg1NTg4NzQ4NTE5ODI1JTIxM2QtMzIuOTUyNDAxNzgwOTE5MzQlMjEybTMlMjExZjAlMjEyZjAlMjEzZjAlMjEzbTIlMjExaTEwMjQlMjEyaTc2OCUyMTRmMTMuMSUyMTNtMyUyMTFtMiUyMTFzMHg5NjdlMGJiNDE2NzNhYWQ1JTI1M0EweDRkNmI3M2Q5MGZmNWZjYWYlMjEyc1BhcnF1ZSUyQkVzdGFjaW9uJTJCQmVuZWdhcyUyMTVlMCUyMTNtMiUyMTFzZXMtNDE5JTIxMnNhciUyMTR2MTUzMDU1MTExNjgzMiUyMiUyMHdpZHRoJTNEJTIyNDAwJTIyJTIwaGVpZ2h0JTNEJTIyMzAwJTIyJTIwZnJhbWVib3JkZXIlM0QlMjIwJTIyJTIwc3R5bGUlM0QlMjJib3JkZXIlM0EwJTIyJTIwYWxsb3dmdWxsc2NyZWVuJTNFJTNDJTJGaWZyYW1lJTNF»][/vc_column][/vc_row] \n
URL:https://www.godoycruz.gob.ar/evento/festejamos-la-independencia/
ATTACH;FMTTYPE=image/jpeg:https://www.godoycruz.gob.ar/wp-content/uploads/2018/07/9-DE-JULIO.jpg
END:VEVENT
BEGIN:VEVENT
DTSTART;TZID=UTC-3:20180709T153000
DTEND;TZID=UTC-3:20180709T153000
DTSTAMP:20260425T113851
CREATED:20180707T233856Z
LAST-MODIFIED:20180707T233856Z
UID:50798-1531150200-1531150200@www.godoycruz.gob.ar
SUMMARY:Invierno en Godoy Cruz - Mediateca infantil
DESCRIPTION:[vc_row][vc_column][vc_column_text]Del 9 al 22 de julio. 15:30 y 17:30. Mediateca infantil. B+M. $100. \nLunes 9 – Obra: Chocolate”. Elenco: Tamarí Teatro.[/vc_column_text][/vc_column][/vc_row][vc_row][vc_column][vc_single_image image=»50799″ img_size=»full»][/vc_column][/vc_row] \n
URL:https://www.godoycruz.gob.ar/evento/invierno-godoy-cruz-mediateca-infantil/
LOCATION:Tomba 54\, Godoy Cruz\, Mendoza\, 5501\, Argentina
ATTACH;FMTTYPE=image/jpeg:https://www.godoycruz.gob.ar/wp-content/uploads/2018/07/web-mediateca-infantil-9y10.jpg
END:VEVENT
END:VCALENDAR