BEGIN:VCALENDAR
VERSION:2.0
PRODID:-//Godoy Cruz - ECPv4.5.8.1//NONSGML v1.0//EN
CALSCALE:GREGORIAN
METHOD:PUBLISH
X-WR-CALNAME:Godoy Cruz
X-ORIGINAL-URL:https://www.godoycruz.gob.ar
X-WR-CALDESC:Events for Godoy Cruz
BEGIN:VEVENT
DTSTART;TZID=UTC-3:20180714T150000
DTEND;TZID=UTC-3:20180714T170000
DTSTAMP:20260425T202321
CREATED:20180708T221301Z
LAST-MODIFIED:20180708T221301Z
UID:50919-1531580400-1531587600@www.godoycruz.gob.ar
SUMMARY:Invierno en GC: El cielo de Nany y Cuento contigo
DESCRIPTION:[vc_row][vc_column][vc_column_text]Del 12 al 22 de julio – Teatro Plaza (Colón 27). 2 Funciones diarias. \nCoproduce: Escuela de Comedia Musical “YO SOY” y Municipalidad de Godoy Cruz \nSábado 14:[/vc_column_text][/vc_column][/vc_row][vc_row][vc_column width=»1/2″][vc_column_text]15:00. El cielo de Nany (recomendada para niños de 0 a 5 años). \nEntradas: $200 y $150 (a partir de dos años pagan entrada). \nEntradas en venta: boletería del teatro y a través de EntradaWeb.com[/vc_column_text][vc_single_image image=»50908″ img_size=»full»][/vc_column][vc_column width=»1/2″][vc_column_text]17:00. Cuento Contigo (recomendada a partir de los 5 años). \nEntradas: $200 y $150 (a partir de dos años pagan entrada). \nEntradas en venta: boletería del teatro y a través de EntradaWeb.com \n[/vc_column_text][vc_single_image image=»50909″ img_size=»full»][/vc_column][/vc_row] \n
URL:https://www.godoycruz.gob.ar/evento/invierno-gc-cielo-nany-cuento-contigo-3/
LOCATION:Colón 27\, Godoy Cruz\, Mendoza\, 5501\, Argentina
ATTACH;FMTTYPE=image/png:https://www.godoycruz.gob.ar/wp-content/uploads/2018/07/Post-FB-El-mundo-de-Nany-1-1.png
END:VEVENT
BEGIN:VEVENT
DTSTART;TZID=UTC-3:20180714T150000
DTEND;TZID=UTC-3:20180714T150000
DTSTAMP:20260425T202321
CREATED:20180711T171913Z
LAST-MODIFIED:20180711T171913Z
UID:51071-1531580400-1531580400@www.godoycruz.gob.ar
SUMMARY:Invierno en Godoy Cruz - Circo
DESCRIPTION:[vc_row][vc_column][vc_column_text]Del 12 al 22 de julio. 15:00 y 17:00. 4º Festival de Circo. \nDos funciones diarias. Parque Estación Benegas (Av. del Trabajo y Panamericana). $50 (por función). \nSábado 14: “Circo Azul”.[/vc_column_text][/vc_column][/vc_row][vc_row][vc_column][vc_single_image image=»51063″ img_size=»full»][/vc_column][/vc_row][vc_row][vc_column][vc_gmaps link=»#E-8_JTNDaWZyYW1lJTIwc3JjJTNEJTIyaHR0cHMlM0ElMkYlMkZ3d3cuZ29vZ2xlLmNvbSUyRm1hcHMlMkZlbWJlZCUzRnBiJTNEJTIxMW0xOCUyMTFtMTIlMjExbTMlMjExZDMzNDcuOTQ3MjYxMTEyNzg0NCUyMTJkLTY4Ljg1NTg4NzQ4NDgxMzQ0JTIxM2QtMzIuOTUyNDAxNzgwOTE5MzglMjEybTMlMjExZjAlMjEyZjAlMjEzZjAlMjEzbTIlMjExaTEwMjQlMjEyaTc2OCUyMTRmMTMuMSUyMTNtMyUyMTFtMiUyMTFzMHg5NjdlMGJiNDE2NzNhYWQ1JTI1M0EweDRkNmI3M2Q5MGZmNWZjYWYlMjEyc1BhcnF1ZSUyQkVzdGFjaW9uJTJCQmVuZWdhcyUyMTVlMCUyMTNtMiUyMTFzZXMtNDE5JTIxMnNhciUyMTR2MTUzMTMyODYyNTgxMyUyMiUyMHdpZHRoJTNEJTIyNDAwJTIyJTIwaGVpZ2h0JTNEJTIyMzAwJTIyJTIwZnJhbWVib3JkZXIlM0QlMjIwJTIyJTIwc3R5bGUlM0QlMjJib3JkZXIlM0EwJTIyJTIwYWxsb3dmdWxsc2NyZWVuJTNFJTNDJTJGaWZyYW1lJTNFJTBB»][/vc_column][/vc_row] \n
URL:https://www.godoycruz.gob.ar/evento/invierno-godoy-cruz-circo-3/
LOCATION:Mendoza
ATTACH;FMTTYPE=image/jpeg:https://www.godoycruz.gob.ar/wp-content/uploads/2018/07/Circo.jpg
END:VEVENT
BEGIN:VEVENT
DTSTART;TZID=UTC-3:20180714T153000
DTEND;TZID=UTC-3:20180714T153000
DTSTAMP:20260425T202321
CREATED:20180708T003244Z
LAST-MODIFIED:20180708T003244Z
UID:50821-1531582200-1531582200@www.godoycruz.gob.ar
SUMMARY:Invierno en Godoy Cruz - Mediateca infantil
DESCRIPTION:[vc_row][vc_column][vc_column_text]Del 9 al 22 de julio. 15:30 y 17:30. Mediateca infantil. B+M. $100 \nSábado 14 – Obra: “Amor Indio”. Elenco: Burbujas.[/vc_column_text][/vc_column][/vc_row][vc_row][vc_column][vc_single_image image=»50816″ img_size=»full»][/vc_column][/vc_row] \n
URL:https://www.godoycruz.gob.ar/evento/invierno-godoy-cruz-mediateca-infantil-5/
LOCATION:Tomba 54\, Godoy Cruz\, Mendoza\, 5501\, Argentina
ATTACH;FMTTYPE=image/jpeg:https://www.godoycruz.gob.ar/wp-content/uploads/2018/07/web-mediateca-infantil-13y14.jpg
END:VEVENT
BEGIN:VEVENT
DTSTART;TZID=UTC-3:20180714T153000
DTEND;TZID=UTC-3:20180714T153000
DTSTAMP:20260425T202321
CREATED:20180711T020146Z
LAST-MODIFIED:20180711T020146Z
UID:51002-1531582200-1531582200@www.godoycruz.gob.ar
SUMMARY:Invierno en Godoy Cruz - Domo de títeres
DESCRIPTION:[vc_row][vc_column][vc_column_text]Del 12 al 22 de julio. 15:30 y 17:30. Domo de Títeres. \nDos funciones diarias. Parque Estación Benegas (Av. del Trabajo y Panamericana). $50 (por función). \nSábado 14: “Victoria en el circo”. Elenco: Alhambra.[/vc_column_text][/vc_column][/vc_row][vc_row][vc_column][vc_single_image image=»50992″ img_size=»full»][/vc_column][/vc_row][vc_row][vc_column][vc_gmaps link=»#E-8_JTNDaWZyYW1lJTIwc3JjJTNEJTIyaHR0cHMlM0ElMkYlMkZ3d3cuZ29vZ2xlLmNvbSUyRm1hcHMlMkZlbWJlZCUzRnBiJTNEJTIxMW0xOCUyMTFtMTIlMjExbTMlMjExZDMzNDcuOTQ3MjYxMTEyNzg0NCUyMTJkLTY4Ljg1NTg4NzQ4NDgxMzQ0JTIxM2QtMzIuOTUyNDAxNzgwOTE5MzglMjEybTMlMjExZjAlMjEyZjAlMjEzZjAlMjEzbTIlMjExaTEwMjQlMjEyaTc2OCUyMTRmMTMuMSUyMTNtMyUyMTFtMiUyMTFzMHg5NjdlMGJiNDE2NzNhYWQ1JTI1M0EweDRkNmI3M2Q5MGZmNWZjYWYlMjEyc1BhcnF1ZSUyQkVzdGFjaW9uJTJCQmVuZWdhcyUyMTVlMCUyMTNtMiUyMTFzZXMtNDE5JTIxMnNhciUyMTR2MTUzMTI3MzYwMjg5MSUyMiUyMHdpZHRoJTNEJTIyNDAwJTIyJTIwaGVpZ2h0JTNEJTIyMzAwJTIyJTIwZnJhbWVib3JkZXIlM0QlMjIwJTIyJTIwc3R5bGUlM0QlMjJib3JkZXIlM0EwJTIyJTIwYWxsb3dmdWxsc2NyZWVuJTNFJTNDJTJGaWZyYW1lJTNF»][/vc_column][/vc_row] \n
URL:https://www.godoycruz.gob.ar/evento/invierno-godoy-cruz-domo-titeres-3/
LOCATION:Mendoza
ATTACH;FMTTYPE=image/jpeg:https://www.godoycruz.gob.ar/wp-content/uploads/2018/07/Domo-títeres.jpg
END:VEVENT
BEGIN:VEVENT
DTSTART;TZID=UTC-3:20180714T160000
DTEND;TZID=UTC-3:20180714T160000
DTSTAMP:20260425T202321
CREATED:20180713T152305Z
LAST-MODIFIED:20180713T152305Z
UID:51152-1531584000-1531584000@www.godoycruz.gob.ar
SUMMARY:Invierno en Godoy Cruz - Circo Rodante
DESCRIPTION:[vc_row][vc_column][vc_column_text]Circo Rodante por los barrios de Godoy Cruz. Elencos artísticos. Malabares\, acrobacias\, payasos\, magia. Chocolate y tortitas. \nBº La Estanzuela (Calles Vicente Vildoza y Olmo Zarate). Apoya: Jóvenes por la Estanzuela. Entrada gratuita. \nSábado 14:[/vc_column_text][/vc_column][/vc_row][vc_row][vc_column][vc_single_image image=»51153″ img_size=»full»][/vc_column][/vc_row][vc_row][vc_column][vc_gmaps link=»#E-8_JTNDaWZyYW1lJTIwc3JjJTNEJTIyaHR0cHMlM0ElMkYlMkZ3d3cuZ29vZ2xlLmNvbSUyRm1hcHMlMkZlbWJlZCUzRnBiJTNEJTIxMW0xOCUyMTFtMTIlMjExbTMlMjExZDMzNDguMTk4OTc3MzI3OTg1NiUyMTJkLTY4Ljg3MTY1NTg4NTE5ODM2JTIxM2QtMzIuOTQ1NzU1NjgwOTIxMjk1JTIxMm0zJTIxMWYwJTIxMmYwJTIxM2YwJTIxM20yJTIxMWkxMDI0JTIxMmk3NjglMjE0ZjEzLjElMjEzbTMlMjExbTIlMjExczB4OTY3ZTBhMzc0Y2JmYzdkMSUyNTNBMHhiMjNkY2IyY2U3NGUyZjdjJTIxMnNQbGF6YSUyQkJhcnJpbyUyQkxhJTJCRXN0YW56dWVsYS4lMjE1ZTAlMjEzbTIlMjExc2VzLTQxOSUyMTJzYXIlMjE0djE1MzE0OTUwNjIyODAlMjIlMjB3aWR0aCUzRCUyMjQwMCUyMiUyMGhlaWdodCUzRCUyMjMwMCUyMiUyMGZyYW1lYm9yZGVyJTNEJTIyMCUyMiUyMHN0eWxlJTNEJTIyYm9yZGVyJTNBMCUyMiUyMGFsbG93ZnVsbHNjcmVlbiUzRSUzQyUyRmlmcmFtZSUzRQ==»][/vc_column][/vc_row] \n
URL:https://www.godoycruz.gob.ar/evento/invierno-godoy-cruz-circo-rodante/
LOCATION:Mendoza
ATTACH;FMTTYPE=image/jpeg:https://www.godoycruz.gob.ar/wp-content/uploads/2018/07/Web-circo-rodante-14-B-estanzuela.jpg
END:VEVENT
BEGIN:VEVENT
DTSTART;TZID=UTC-3:20180714T190000
DTEND;TZID=UTC-3:20180714T190000
DTSTAMP:20260425T202321
CREATED:20180708T052344Z
LAST-MODIFIED:20180708T052609Z
UID:50880-1531594800-1531594800@www.godoycruz.gob.ar
SUMMARY:Invierno en Godoy Cruz - Plaza Aventura
DESCRIPTION:[vc_row][vc_column][vc_column_text]Del 13 al 20 de julio. Plaza Aventura Cine. Películas para ver en familia. Teatro Plaza. Canje de entradas por un alimento no perecedero. \nSábado 14- Película: Space Jam. 19:00h.[/vc_column_text][/vc_column][/vc_row][vc_row][vc_column][vc_single_image image=»50881″ img_size=»full»][/vc_column][/vc_row] \n
URL:https://www.godoycruz.gob.ar/evento/invierno-godoy-cruz-plaza-aventura-2/
LOCATION:Colón 27\, Godoy Cruz\, Mendoza\, 5501\, Argentina
ATTACH;FMTTYPE=image/jpeg:https://www.godoycruz.gob.ar/wp-content/uploads/2018/07/Plaza-aventura-cine.jpg
END:VEVENT
END:VCALENDAR