BEGIN:VCALENDAR
VERSION:2.0
PRODID:-//Godoy Cruz - ECPv4.5.8.1//NONSGML v1.0//EN
CALSCALE:GREGORIAN
METHOD:PUBLISH
X-WR-CALNAME:Godoy Cruz
X-ORIGINAL-URL:https://www.godoycruz.gob.ar
X-WR-CALDESC:Events for Godoy Cruz
BEGIN:VEVENT
DTSTART;TZID=UTC-3:20240511T200000
DTEND;TZID=UTC-3:20240511T200000
DTSTAMP:20260425T194925
CREATED:20240508T160647Z
LAST-MODIFIED:20240508T160647Z
UID:109770-1715457600-1715457600@www.godoycruz.gob.ar
SUMMARY:Muestra Espacios de Silencio\, de Antonio Sarelli
DESCRIPTION:[vc_row][vc_column][vc_column_text]En el marco de los 169 años del Departamento\, se podrá disfrutar el talento\, la destreza y el universo creativo de Antonio Sarelli. \nEl Centro Patrimonial Artístico Cristoforo Colombo inaugura la exposición que lleva las huellas y creatividad del pintor mendocino. \nEntrada libre y gratuita.[/vc_column_text][/vc_column][/vc_row][vc_row][vc_column][vc_single_image image=»109771″ img_size=»full»][/vc_column][/vc_row] \n
URL:https://www.godoycruz.gob.ar/evento/muestra-espacios-silencio-antonio-sarelli/
ATTACH;FMTTYPE=image/jpeg:https://www.godoycruz.gob.ar/wp-content/uploads/2024/05/441459078_765094622476116_6618765470837144519_n.jpg
END:VEVENT
BEGIN:VEVENT
DTSTART;TZID=UTC-3:20240511T210000
DTEND;TZID=UTC-3:20240511T210000
DTSTAMP:20260425T194925
CREATED:20240507T161128Z
LAST-MODIFIED:20240507T161128Z
UID:109714-1715461200-1715461200@www.godoycruz.gob.ar
SUMMARY:169 años - Beethoven
DESCRIPTION:[vc_row][vc_column][vc_column_text]Godoy Cruz celebra 169 años con un espectáculo musical único. \nBajo la dirección de Mariano Peralta\, la Orquesta Barroca de Mendoza interpretará obras claves de Beethoven y la Quinta Sinfonía. \nPrograma: \nOberturas\nEgmont. Op 84. (10 min)\nLas Criaturas de Prometeo. Op. 43. (5 min.) \nSinfonías\n2º movimiento de la 7º Sinfonía de Beethoven. (9 min).\n5ta sinfonía de Beethoven. (38 min). \nDirección general: Mariano Peralta. \nPodés comprar tus entradas online en https://bit.ly/169AniversarioGC o en la boletería del teatro (Colón 27\, Godoy Cruz)\, de lunes a viernes\, de 9 a 16H.[/vc_column_text][/vc_column][/vc_row][vc_row][vc_column][vc_single_image image=»109716″ img_size=»full»][/vc_column][/vc_row] \n
URL:https://www.godoycruz.gob.ar/evento/169-anos-beethoven/
LOCATION:Colón 27\, Godoy Cruz\, Mendoza\, 5501\, Argentina
ATTACH;FMTTYPE=image/jpeg:https://www.godoycruz.gob.ar/wp-content/uploads/2024/05/441292558_761508882734181_6536596998012187529_n.jpg
END:VEVENT
BEGIN:VEVENT
DTSTART;TZID=UTC-3:20240511T213000
DTEND;TZID=UTC-3:20240511T213000
DTSTAMP:20260425T194925
CREATED:20240509T165905Z
LAST-MODIFIED:20240509T165905Z
UID:109859-1715463000-1715463000@www.godoycruz.gob.ar
SUMMARY:Proyecto Aurora
DESCRIPTION:[vc_row][vc_column][vc_column_text]Proyecto Aurora es un novedoso formato teatral\, donde la participación del público será fundamental para el desarrollo de la trama. \nLos espectadores llegarán a la Clínica Aurora\, un psiquiátrico en el que los médicos experimentan con sus pacientes\, insertándoles un dispositivo capaz\nde proyectar sus sueños. \nPero muy pronto el proyecto se saldrá de control cuando los internados comienzan a ejecutar un motín\, del que los observadores se convertirán en cómplices. \nAdquirí tu entrada online en bit.ly/EntradasProyectoAurora1[/vc_column_text][/vc_column][/vc_row][vc_row][vc_column][vc_single_image image=»109860″ img_size=»full»][/vc_column][/vc_row] \n
URL:https://www.godoycruz.gob.ar/evento/proyecto-aurora/
ATTACH;FMTTYPE=image/jpeg:https://www.godoycruz.gob.ar/wp-content/uploads/2024/05/441047225_764501349202110_7696148854262989697_n.jpg
END:VEVENT
END:VCALENDAR