BEGIN:VCALENDAR
VERSION:2.0
PRODID:-//Godoy Cruz - ECPv4.5.8.1//NONSGML v1.0//EN
CALSCALE:GREGORIAN
METHOD:PUBLISH
X-WR-CALNAME:Godoy Cruz
X-ORIGINAL-URL:https://www.godoycruz.gob.ar
X-WR-CALDESC:Events for Godoy Cruz
BEGIN:VEVENT
DTSTART;VALUE=DATE:20250317
DTEND;VALUE=DATE:20250320
DTSTAMP:20260423T122125
CREATED:20250311T144629Z
LAST-MODIFIED:20250311T144629Z
UID:122145-1742169600-1742515199@www.godoycruz.gob.ar
SUMMARY:XXII Encuentro Internacional Teatro X La Memoria - "A Defender La Casa"
DESCRIPTION:[vc_row][vc_column][vc_column_text]Este festival apunta a despertar la reflexión sobre la última dictadura cívico militar de nuestro país\, abordando temas como los derechos humanos\, identidad\, historia\, género y migrancia. \nEl público podrá asistir a distintas salas locales para ver producciones de importantes elencos y autores de Mendoza\, así como diferentes partes del país y Latinoamérica. \nLa entrada será gratuita y la salida al sombrero. Los cupos serán limitados y por orden de llegada. \nReservas e inscripciones: Whatsapp 2614722921 (Teatro Gladys Ravalle\, Enkosala). \nSeminario Internacional: “Herramientas Teatrales Participativas”. \nDictado por: CURINGA (Elivera Maripangui) (Chile).[/vc_column_text][/vc_column][/vc_row][vc_row][vc_column][vc_single_image image=»122148″ img_size=»full»][/vc_column][/vc_row] \n
URL:https://www.godoycruz.gob.ar/evento/xxii-encuentro-internacional-teatro-x-la-memoria-defender-la-casa-5/
ATTACH;FMTTYPE=image/jpeg:https://www.godoycruz.gob.ar/wp-content/uploads/2025/03/General-feed.jpg
END:VEVENT
BEGIN:VEVENT
DTSTART;TZID=UTC-3:20250320T210000
DTEND;TZID=UTC-3:20250320T210000
DTSTAMP:20260423T122125
CREATED:20250311T145348Z
LAST-MODIFIED:20250311T145348Z
UID:122151-1742504400-1742504400@www.godoycruz.gob.ar
SUMMARY:XXII Encuentro Internacional Teatro X La Memoria - "A Defender La Casa"
DESCRIPTION:[vc_row][vc_column][vc_column_text]Este festival apunta a despertar la reflexión sobre la última dictadura cívico militar de nuestro país\, abordando temas como los derechos humanos\, identidad\, historia\, género y migrancia. \nEl público podrá asistir a distintas salas locales para ver producciones de importantes elencos y autores de Mendoza\, así como diferentes partes del país y Latinoamérica. \nLa entrada será gratuita y la salida al sombrero. Los cupos serán limitados y por orden de llegada. \nReservas e inscripciones: Whatsapp 2614722921 (Teatro Gladys Ravalle\, Enkosala). \nObra: “Pū Kalül desaparecidos\, cuerpos Desaparecidos”. \nAutoría y dirección: Elivera Maripangui.[/vc_column_text][/vc_column][/vc_row][vc_row][vc_column][vc_single_image image=»122152″ img_size=»full»][/vc_column][/vc_row] \n
URL:https://www.godoycruz.gob.ar/evento/xxii-encuentro-internacional-teatro-x-la-memoria-defender-la-casa-6/
ATTACH;FMTTYPE=image/jpeg:https://www.godoycruz.gob.ar/wp-content/uploads/2025/03/General-feed.jpg
END:VEVENT
BEGIN:VEVENT
DTSTART;TZID=UTC-3:20250320T210000
DTEND;TZID=UTC-3:20250320T210000
DTSTAMP:20260423T122125
CREATED:20250313T161625Z
LAST-MODIFIED:20250319T141434Z
UID:122309-1742504400-1742504400@www.godoycruz.gob.ar
SUMMARY:Violetta Club presenta: Amor & Desdén
DESCRIPTION:[vc_row][vc_column][vc_column_text]El colectivo de músicos y cantantes Violetta Club interpretará obras de Claudio Monteverdi\, con la soprano Graciela Oddone como invitada especial. \n“Amor & Desdén” estará dedicado al reconocido compositor italiano e incluirá varias de sus obras más reconocidas. \nArtistas: Gabriela Guembe (Dirección musical\, viola da gamba); Griselda López Zalba (soprano); Gustavo Richter (clave); Daniel Ganum (tiorba). \nInvitada: Graciela Oddone (soprano). \nComprá tus entradas online en https://bit.ly/ViolettaClubMonteverdi[/vc_column_text][/vc_column][/vc_row][vc_row][vc_column][vc_single_image image=»122555″ img_size=»full»][/vc_column][/vc_row] \n
URL:https://www.godoycruz.gob.ar/evento/violetta-club-presenta-amor-desden1/
ATTACH;FMTTYPE=image/jpeg:https://www.godoycruz.gob.ar/wp-content/uploads/2025/03/484991442_974506818201561_4189609598311177274_n.jpg
END:VEVENT
END:VCALENDAR