BEGIN:VCALENDAR
VERSION:2.0
PRODID:-//Godoy Cruz - ECPv4.5.8.1//NONSGML v1.0//EN
CALSCALE:GREGORIAN
METHOD:PUBLISH
X-WR-CALNAME:Godoy Cruz
X-ORIGINAL-URL:https://www.godoycruz.gob.ar
X-WR-CALDESC:Events for Godoy Cruz
BEGIN:VEVENT
DTSTART;VALUE=DATE:20250325
DTEND;VALUE=DATE:20250327
DTSTAMP:20260423T205442
CREATED:20250312T133158Z
LAST-MODIFIED:20250312T133158Z
UID:122235-1742860800-1743119999@www.godoycruz.gob.ar
SUMMARY:XXII Encuentro Internacional Teatro X La Memoria - "A Defender La Casa"
DESCRIPTION:[vc_row][vc_column][vc_column_text]Este festival apunta a despertar la reflexión sobre la última dictadura cívico militar de nuestro país\, abordando temas como los derechos humanos\, identidad\, historia\, género y migrancia. \nEl público podrá asistir a distintas salas locales para ver producciones de importantes elencos y autores de Mendoza\, así como diferentes partes del país y Latinoamérica. \nLa entrada será gratuita y la salida al sombrero. Los cupos serán limitados y por orden de llegada. \nReservas e inscripciones: Whatsapp 2614722921 (Teatro Gladys Ravalle\, Enkosala). \nSeminario Internacional: “Dinámica del teatro Testimonial”. \nDictado por: Giovanni Largo de León (Colombia).[/vc_column_text][/vc_column][/vc_row][vc_row][vc_column][vc_single_image image=»122236″ img_size=»full»][/vc_column][/vc_row] \n
URL:https://www.godoycruz.gob.ar/evento/xxii-encuentro-internacional-teatro-x-la-memoria-defender-la-casa-10/
ATTACH;FMTTYPE=image/jpeg:https://www.godoycruz.gob.ar/wp-content/uploads/2025/03/General-feed.jpg
END:VEVENT
BEGIN:VEVENT
DTSTART;TZID=UTC-3:20250325T180000
DTEND;TZID=UTC-3:20250325T180000
DTSTAMP:20260423T205442
CREATED:20250320T161606Z
LAST-MODIFIED:20250320T161606Z
UID:122653-1742925600-1742925600@www.godoycruz.gob.ar
SUMMARY:Memoria\, Verdad y Justicia
DESCRIPTION:[vc_row][vc_column][vc_column_text]Godoy Cruz conmemora el Día Nacional de la Memoria por la Verdad y la Justica. \nEn distintos puntos del municipio habrá espacios de reflexión y diálogo\, abiertos a la participación de toda la comunidad. \nEstas jornadas se dan a 49 años del golpe de estado que originó la última dictadura militar. \nAgenda: \nProyección de la película «Argentina\, 1985″. Gratis. \nNarra el proceso de juicio a los líderes de la dictadura tras la restauración democrática.  Luego de la proyección\, habrá un espacio de diálogo para reflexionar en comunidad.[/vc_column_text][/vc_column][/vc_row][vc_row][vc_column][vc_single_image image=»122639″ img_size=»full»][/vc_column][/vc_row] \n
URL:https://www.godoycruz.gob.ar/evento/memoria-verdad-justicia-4/
ATTACH;FMTTYPE=image/jpeg:https://www.godoycruz.gob.ar/wp-content/uploads/2025/03/WhatsApp-Image-2025-03-20-at-12.08.11-PM.jpeg
END:VEVENT
END:VCALENDAR