BEGIN:VCALENDAR
VERSION:2.0
PRODID:-//Godoy Cruz - ECPv4.5.8.1//NONSGML v1.0//EN
CALSCALE:GREGORIAN
METHOD:PUBLISH
X-WR-CALNAME:Godoy Cruz
X-ORIGINAL-URL:https://www.godoycruz.gob.ar
X-WR-CALDESC:Events for Godoy Cruz
BEGIN:VEVENT
DTSTART;TZID=UTC-3:20250329T200000
DTEND;TZID=UTC-3:20250329T200000
DTSTAMP:20260424T033119
CREATED:20250320T152336Z
LAST-MODIFIED:20250320T152336Z
UID:122633-1743278400-1743278400@www.godoycruz.gob.ar
SUMMARY:Attack on Titan - Show Sinfónivo Vol. 2
DESCRIPTION:[vc_row][vc_column][vc_column_text]Tras el éxito de su primera función en Argentina\, el aclamado show lírico-sinfónico de Attack on Titan regresa a Mendoza. \nLa música y la emoción de Attack on Titan se combinan en una producción sinfónica única. \nEl público podrá revivir los momentos más épicos de la serie\, con un espectáculo que hará sentir cada batalla\, cada emoción y cada giro dramático en vivo. \nApertura de puertas: 19:15H. \nInicio del show: 20H \nVenta de entradas online en https://bit.ly/ConciertoSinfónicoTitanes \nTambién se pueden adquirir en la boletería de la sala (Colón 27\, Godoy Cruz)\, de lunes a viernes de 9 a 14H. Las ubicaciones serán por orden de llegada. \nBeneficio exclusivo: 2×1 para Cinemacenter\, válido hasta el 30 de abril de 2025\, con cada ticket adquirido.[/vc_column_text][/vc_column][/vc_row][vc_row][vc_column][vc_single_image image=»122634″ img_size=»full»][/vc_column][/vc_row] \n
URL:https://www.godoycruz.gob.ar/evento/attack-on-titan-show-sinfonivo-vol-2/
LOCATION:Colón 27\, Godoy Cruz\, Mendoza\, 5501\, Argentina
ATTACH;FMTTYPE=image/jpeg:https://www.godoycruz.gob.ar/wp-content/uploads/2025/03/REDES-MUNI-SHOW-SINFÓNICO-ATTACK-ON-TITAN-VOL-2.jpg
END:VEVENT
BEGIN:VEVENT
DTSTART;TZID=UTC-3:20250329T210000
DTEND;TZID=UTC-3:20250329T210000
DTSTAMP:20260424T033119
CREATED:20250312T134401Z
LAST-MODIFIED:20250312T134401Z
UID:122243-1743282000-1743282000@www.godoycruz.gob.ar
SUMMARY:XXII Encuentro Internacional Teatro X La Memoria - "A Defender La Casa"
DESCRIPTION:[vc_row][vc_column][vc_column_text]Este festival apunta a despertar la reflexión sobre la última dictadura cívico militar de nuestro país\, abordando temas como los derechos humanos\, identidad\, historia\, género y migrancia. \nEl público podrá asistir a distintas salas locales para ver producciones de importantes elencos y autores de Mendoza\, así como diferentes partes del país y Latinoamérica. \nLa entrada será gratuita y la salida al sombrero. Los cupos serán limitados y por orden de llegada. \nReservas e inscripciones: Whatsapp 2614722921 (Teatro Gladys Ravalle\, Enkosala). \nObra: “Rojos Globos Rojos”. \nDe: Eduardo Pavlovsky. Dirección: Román Caracciolo (San Luis).[/vc_column_text][/vc_column][/vc_row][vc_row][vc_column][vc_single_image image=»122244″ img_size=»full»][/vc_column][/vc_row] \n
URL:https://www.godoycruz.gob.ar/evento/xxii-encuentro-internacional-teatro-x-la-memoria-defender-la-casa-12/
LOCATION:Tomba 54\, Godoy Cruz\, Mendoza\, 5501\, Argentina
ATTACH;FMTTYPE=image/jpeg:https://www.godoycruz.gob.ar/wp-content/uploads/2025/03/General-feed.jpg
END:VEVENT
END:VCALENDAR