BEGIN:VCALENDAR
VERSION:2.0
PRODID:-//Godoy Cruz - ECPv4.5.8.1//NONSGML v1.0//EN
CALSCALE:GREGORIAN
METHOD:PUBLISH
X-WR-CALNAME:Godoy Cruz
X-ORIGINAL-URL:https://www.godoycruz.gob.ar
X-WR-CALDESC:Events for Godoy Cruz
BEGIN:VEVENT
DTSTART;TZID=UTC-3:20250330T200000
DTEND;TZID=UTC-3:20250330T200000
DTSTAMP:20260424T051347
CREATED:20250328T131435Z
LAST-MODIFIED:20250328T131435Z
UID:122751-1743364800-1743364800@www.godoycruz.gob.ar
SUMMARY:El Ensamble Contemporáneo 4´33´´presenta “Si es que acaso existe... ¿Dónde habita el silencio?”
DESCRIPTION:[vc_row][vc_column][vc_column_text]El Ensamble Contemporáneo 4´33´´trae un espectáculo multidisciplinario a la sala Cristoforo Colombo. \nEn esta propuesta se integran diferentes disciplinas en manos de renombrados intérpretes y hacedores de nuestra provincia. \n“Si es que acaso existe… ¿Dónde habita el silencio?” está inspirado en la concepción filosófica del compositor estadounidense John Cage sobre el silencio\, apreciando cada intervención sonora desde su propia y espontánea naturaleza. \nCynthia Calella: Dirección musical y artística. \nIntegrantes: Magdalena Scatollini (violín); Gabriela Guembe (violoncello); Beti Plana (flauta traversa); Gorgias Sánchez (clarinete); Luciana Orellana (soprano); Ignacio Figueroa (piano) y Marco Sieni (percusión). \nInvitados: Adriano Calcagno (piccolo); Luis Bastidas (violín); Mauro Marquet (viola y electrónica) y Jorge Elías (clarinete bajo y soprano). \nGraciela Conocente (Danza contemporánea). Selene Bumbalo (Dramaturgia). \nLas entradas se pueden obtener vía online en https://bit.ly/EntradasSilencioCristoforo[/vc_column_text][/vc_column][/vc_row][vc_row][vc_column][vc_single_image image=»122754″ img_size=»full»][/vc_column][/vc_row] \n
URL:https://www.godoycruz.gob.ar/evento/ensamble-contemporaneo-433presenta-acaso-existe-donde-habita-silencio/
ATTACH;FMTTYPE=image/jpeg:https://www.godoycruz.gob.ar/wp-content/uploads/2025/03/flyer-4-33..jpeg
END:VEVENT
BEGIN:VEVENT
DTSTART;TZID=UTC-3:20250330T203000
DTEND;TZID=UTC-3:20250330T203000
DTSTAMP:20260424T051347
CREATED:20250326T154055Z
LAST-MODIFIED:20250328T131755Z
UID:122778-1743366600-1743366600@www.godoycruz.gob.ar
SUMMARY:A Mis Padres
DESCRIPTION:[vc_row][vc_column][vc_column_text]Andromeda Dance School representará a nuestro país en el mundial de Hip Hop\, que tendrá lugar en agosto en Estados Unidos. \nPara esto necesita recaudar fondos y presenta la puesta “A mis Padres”. Lo recaudado será destinado a beneficio de la delegación nacional que viajará a EEUU. \nAndromeda Dance School es una de las escuelas de danza más grandes del país\, y es una de las pocas especializadas en estilos urbanos. \nLas entradas se pueden obtener vía online en https://bit.ly/EntradasMisPadres[/vc_column_text][/vc_column][/vc_row][vc_row][vc_column][vc_single_image image=»122838″ img_size=»full»][/vc_column][/vc_row] \n
URL:https://www.godoycruz.gob.ar/evento/a-mis-padres1/
LOCATION:Colón 27\, Godoy Cruz\, Mendoza\, 5501\, Argentina
ATTACH;FMTTYPE=image/jpeg:https://www.godoycruz.gob.ar/wp-content/uploads/2025/03/487005711_980888067563436_4919330032775090526_n-1.jpg
END:VEVENT
BEGIN:VEVENT
DTSTART;TZID=UTC-3:20250330T210000
DTEND;TZID=UTC-3:20250330T210000
DTSTAMP:20260424T051347
CREATED:20250312T135031Z
LAST-MODIFIED:20250312T135031Z
UID:122247-1743368400-1743368400@www.godoycruz.gob.ar
SUMMARY:XXII Encuentro Internacional Teatro X La Memoria - "A Defender La Casa"
DESCRIPTION:[vc_row][vc_column][vc_column_text]Este festival apunta a despertar la reflexión sobre la última dictadura cívico militar de nuestro país\, abordando temas como los derechos humanos\, identidad\, historia\, género y migrancia. \nEl público podrá asistir a distintas salas locales para ver producciones de importantes elencos y autores de Mendoza\, así como diferentes partes del país y Latinoamérica. \nLa entrada será gratuita y la salida al sombrero. Los cupos serán limitados y por orden de llegada. \nReservas e inscripciones: Whatsapp 2614722921 (Teatro Gladys Ravalle\, Enkosala). \nObra: “La Guerra de Klamm”. \nDe Kai Hensel. Dirección Juan Comotti.[/vc_column_text][/vc_column][/vc_row][vc_row][vc_column][vc_single_image image=»122248″ img_size=»full»][/vc_column][/vc_row] \n
URL:https://www.godoycruz.gob.ar/evento/xxii-encuentro-internacional-teatro-x-la-memoria-defender-la-casa-13/
ATTACH;FMTTYPE=image/jpeg:https://www.godoycruz.gob.ar/wp-content/uploads/2025/03/General-feed.jpg
END:VEVENT
END:VCALENDAR