BEGIN:VCALENDAR
VERSION:2.0
PRODID:-//Godoy Cruz - ECPv4.5.8.1//NONSGML v1.0//EN
CALSCALE:GREGORIAN
METHOD:PUBLISH
X-WR-CALNAME:Godoy Cruz
X-ORIGINAL-URL:https://www.godoycruz.gob.ar
X-WR-CALDESC:Events for Godoy Cruz
BEGIN:VEVENT
DTSTART;TZID=UTC-3:20250404T180000
DTEND;TZID=UTC-3:20250404T210000
DTSTAMP:20260424T142515
CREATED:20250401T142556Z
LAST-MODIFIED:20250401T142556Z
UID:122978-1743789600-1743800400@www.godoycruz.gob.ar
SUMMARY:Festival Internacional de Cine de Terror\, Fantasía y Ciencia Ficción ETREUM
DESCRIPTION:[vc_row][vc_column][vc_column_text]Llega a Mendoza una selección de seis largometrajes del ámbito internacional\, que se proyectarán en tres días y con actividades especiales. \nDos largometrajes por día\, feria de ilustradores\, maquillaje en vivo de Dani Muag y la presencia de Adrián de Champs\, director del festival en Argentina. \nEntrada gratuita y cupos limitados. \n18H. Proyección de “Eight Eyes” (EE. UU. 2023). De Austin Jennings. \nSinopsis: Un misterioso lugareño se cuela en las vacaciones de una pareja por la antigua Yugoslavia\, arrastrándolos a uns red de rituales psíquicos. \n21H. Proyección de “Cannibal Mukbang” (EE. UU. 2023). De Aimee Kuge. \nSinopsis: Es una exploración de las relaciones de uno con la comida\, la sexualidad y la venganza. ¿Hasta dónde llegarías en nombre del amor?[/vc_column_text][/vc_column][/vc_row][vc_row][vc_column][vc_single_image image=»122979″ img_size=»full»][/vc_column][/vc_row] \n
URL:https://www.godoycruz.gob.ar/evento/festival-internacional-cine-terror-fantasia-ciencia-ficcion-etreum/
LOCATION:Tomba 54\, Godoy Cruz\, Mendoza\, 5501\, Argentina
ATTACH;FMTTYPE=image/jpeg:https://www.godoycruz.gob.ar/wp-content/uploads/2025/04/WhatsApp-Image-2025-03-31-at-11.03.39-AM-1.jpeg
END:VEVENT
END:VCALENDAR