BEGIN:VCALENDAR
VERSION:2.0
PRODID:-//Godoy Cruz - ECPv4.5.8.1//NONSGML v1.0//EN
CALSCALE:GREGORIAN
METHOD:PUBLISH
X-WR-CALNAME:Godoy Cruz
X-ORIGINAL-URL:https://www.godoycruz.gob.ar
X-WR-CALDESC:Events for Godoy Cruz
BEGIN:VEVENT
DTSTART;TZID=UTC-3:20250406T180000
DTEND;TZID=UTC-3:20250406T210000
DTSTAMP:20260424T174239
CREATED:20250401T143720Z
LAST-MODIFIED:20250401T143720Z
UID:122983-1743962400-1743973200@www.godoycruz.gob.ar
SUMMARY:Festival Internacional de Cine de Terror\, Fantasía y Ciencia Ficción ETREUM
DESCRIPTION:[vc_row][vc_column][vc_column_text]Llega a Mendoza una selección de seis largometrajes del ámbito internacional\, que se proyectarán en tres días y con actividades especiales. \nDos largometrajes por día\, feria de ilustradores\, maquillaje en vivo de Dani Muag y la presencia de Adrián de Champs\, director del festival en Argentina. \nEntrada gratuita y cupos limitados. \n18H. Proyección de “Cram” (EE. UU. 2021). De Abie Sidell. \nSinopsis: La trama se centra en un estudiante universitario que\, desesperado por sobresalir\, recurre a medidas extremas para asegurar su éxito académico. \n21H. Proyección de “Chainsaws Were Singing” (Estonia. 2024). De Sander Maran. \nSinopsis: comedia musical\, terror y acción se combinan en este desopilante film\, sobre un hombre que intenta rescatar a su amada de un asesino con motosierra.[/vc_column_text][/vc_column][/vc_row][vc_row][vc_column][vc_single_image image=»122979″ img_size=»full»][/vc_column][/vc_row] \n
URL:https://www.godoycruz.gob.ar/evento/festival-internacional-cine-terror-fantasia-ciencia-ficcion-etreum-3/
LOCATION:Tomba 54\, Godoy Cruz\, Mendoza\, 5501\, Argentina
ATTACH;FMTTYPE=image/jpeg:https://www.godoycruz.gob.ar/wp-content/uploads/2025/04/WhatsApp-Image-2025-03-31-at-11.03.39-AM-1.jpeg
END:VEVENT
BEGIN:VEVENT
DTSTART;TZID=UTC-3:20250406T190000
DTEND;TZID=UTC-3:20250406T210000
DTSTAMP:20260424T174239
CREATED:20250314T143616Z
LAST-MODIFIED:20250314T143616Z
UID:122336-1743966000-1743973200@www.godoycruz.gob.ar
SUMMARY:Historias Argentinas - Felipe Pigna & Pedro Saborido
DESCRIPTION:[vc_row][vc_column][vc_column_text]2 únicas funciones! : 19 y 21H. \nFelipe Pigna y Pedro Saborido llegan al Teatro Plaza para tratar de entender\, analizar\, pensar y reflexionar (sin certezas) sobre historias argentinas. \nSerá un encuentro único con aquellas revoluciones\, mitos\, delirios\, amores\, identidades y momentos que marcaron para siempre el destino de esta patria. \nVas a sumergirte en un recorrido apasionante por los momentos claves de nuestro país\, desde una mirada fresca\, crítica y entretenida. \nLas entradas se pueden obtener vía online en https://bit.ly/HistoriasArgentinasenelPlaza o en la boletería del teatro (Colón 27\, Godoy Cruz)\, de lunes a viernes de 9 a 14hs.[/vc_column_text][/vc_column][/vc_row][vc_row][vc_column][vc_single_image image=»122337″ img_size=»full»][/vc_column][/vc_row] \n
URL:https://www.godoycruz.gob.ar/evento/historias-argentinas-felipe-pigna-pedro-saborido/
LOCATION:Colón 27\, Godoy Cruz\, Mendoza\, 5501\, Argentina
ATTACH;FMTTYPE=image/jpeg:https://www.godoycruz.gob.ar/wp-content/uploads/2025/03/WhatsApp-Image-2025-03-14-at-10.35.37-AM.jpeg
END:VEVENT
END:VCALENDAR