BEGIN:VCALENDAR
VERSION:2.0
PRODID:-//Godoy Cruz - ECPv4.5.8.1//NONSGML v1.0//EN
CALSCALE:GREGORIAN
METHOD:PUBLISH
X-WR-CALNAME:Godoy Cruz
X-ORIGINAL-URL:https://www.godoycruz.gob.ar
X-WR-CALDESC:Events for Godoy Cruz
BEGIN:VEVENT
DTSTART;TZID=UTC-3:20180605T100000
DTEND;TZID=UTC-3:20180605T100000
DTSTAMP:20260424T091723
CREATED:20180529T180044Z
LAST-MODIFIED:20180529T180044Z
UID:49793-1528192800-1528192800@www.godoycruz.gob.ar
SUMMARY:4° Edición Leru Leru Festival de Teatro para Niños y Niñas
DESCRIPTION:[vc_row][vc_column][vc_column_text]Obra: “Un cuento rojo” (Entradas agotadas). \nFunción para escuelas. \nActúan: Juan Califano; Jeremias Guitiérrez y Facundo Plaza. \nTexto y Dirección: Florencia Manino (sobre un cuento de Liliana Bodoc). \nDos funciones: 10:00 y 15:00.[/vc_column_text][/vc_column][/vc_row][vc_row][vc_column][vc_single_image image=»49791″ img_size=»full»][/vc_column][/vc_row] \n
URL:https://www.godoycruz.gob.ar/evento/4-edicion-leru-leru-festival-teatro-ninos-ninas-2/
LOCATION:Colón 27\, Godoy Cruz\, Mendoza\, 5501\, Argentina
ATTACH;FMTTYPE=image/png:https://www.godoycruz.gob.ar/wp-content/uploads/2018/05/cuento-rojo-10.png
END:VEVENT
END:VCALENDAR