BEGIN:VCALENDAR
VERSION:2.0
PRODID:-//Godoy Cruz - ECPv4.5.8.1//NONSGML v1.0//EN
CALSCALE:GREGORIAN
METHOD:PUBLISH
X-WR-CALNAME:Godoy Cruz
X-ORIGINAL-URL:https://www.godoycruz.gob.ar
X-WR-CALDESC:Events for Godoy Cruz
BEGIN:VEVENT
DTSTART;TZID=UTC-3:20180616T200000
DTEND;TZID=UTC-3:20180616T200000
DTSTAMP:20260423T205435
CREATED:20180606T171548Z
LAST-MODIFIED:20180606T171548Z
UID:50179-1529179200-1529179200@www.godoycruz.gob.ar
SUMMARY:5º Semana de las Letras
DESCRIPTION:[vc_row][vc_column][vc_column_text]Centro Patrimonial Artístico Cristoforo Colombo (Tomba 246). \n20:00 – Café Literario. Espacio para el intercambio y el disfrute de la lectura en voz alta y buena compañía. \n21:30. Espectáculo “Cuando nace un tanguista”. Canciones inspiradas en los cuentos del libro “tangos y falsas promesas”. Artistas: Miguel García Urbani; Vittorio Vadaloni y Gustavo Micieli. \nEntrada gratuita (limitada a la capacidad de la sala).[/vc_column_text][/vc_column][/vc_row][vc_row][vc_column][vc_single_image image=»50180″ img_size=»full»][/vc_column][/vc_row][vc_row][vc_column][vc_gmaps link=»#E-8_JTNDaWZyYW1lJTIwc3JjJTNEJTIyaHR0cHMlM0ElMkYlMkZ3d3cuZ29vZ2xlLmNvbSUyRm1hcHMlMkZlbWJlZCUzRnBiJTNEJTIxMW0xOCUyMTFtMTIlMjExbTMlMjExZDMzNDkuMDk3NzEwNjQ5MjA3JTIxMmQtNjguODQ1MDYxMjg1MTk5MTElMjEzZC0zMi45MjIwMTY1ODA5MjgzNjQlMjEybTMlMjExZjAlMjEyZjAlMjEzZjAlMjEzbTIlMjExaTEwMjQlMjEyaTc2OCUyMTRmMTMuMSUyMTNtMyUyMTFtMiUyMTFzMHg5NjdlMDk2M2IyOGYwNTA5JTI1M0EweDk3NDVhYzA2YTNkNTc4ODElMjEyc0NlbnRybyUyQlBhdHJpbW9uaWFsJTJCeSUyQkFydCUyNUMzJTI1QURzdGljbyUyQkNyaXN0b2Zvcm8lMkJDb2xvbWJvJTIxNWUwJTIxM20yJTIxMXNlcy00MTklMjEyc2FyJTIxNHYxNTI4MzA1MTcwNDM2JTIyJTIwd2lkdGglM0QlMjI0MDAlMjIlMjBoZWlnaHQlM0QlMjIzMDAlMjIlMjBmcmFtZWJvcmRlciUzRCUyMjAlMjIlMjBzdHlsZSUzRCUyMmJvcmRlciUzQTAlMjIlMjBhbGxvd2Z1bGxzY3JlZW4lM0UlM0MlMkZpZnJhbWUlM0U=»][/vc_column][/vc_row] \n
URL:https://www.godoycruz.gob.ar/evento/5o-semana-las-letras-2/
ATTACH;FMTTYPE=image/jpeg:https://www.godoycruz.gob.ar/wp-content/uploads/2018/06/semana-de-las-letras-individuales-CAFE-LITERARIO-16-6.jpg
END:VEVENT
END:VCALENDAR