BEGIN:VCALENDAR
VERSION:2.0
PRODID:-//Godoy Cruz - ECPv4.5.8.1//NONSGML v1.0//EN
CALSCALE:GREGORIAN
METHOD:PUBLISH
X-WR-CALNAME:Godoy Cruz
X-ORIGINAL-URL:https://www.godoycruz.gob.ar
X-WR-CALDESC:Events for Godoy Cruz
BEGIN:VEVENT
DTSTART;TZID=UTC-3:20180614T210000
DTEND;TZID=UTC-3:20180614T210000
DTSTAMP:20260423T174804
CREATED:20180606T165804Z
LAST-MODIFIED:20180606T165804Z
UID:50170-1529010000-1529010000@www.godoycruz.gob.ar
SUMMARY:5º Semana de las Letras - IX Festival del Cantar Opinando
DESCRIPTION:[vc_row][vc_column][vc_column_text]Stand de libros. \nIX Festival del Cantar Opinando.Entradas en venta en la boletería del Teatro Plaza. Horarios: de lunes a sábado\, de 9:00 a 18:00. \nLlega la 9º edición de este encuentro de artistas donde la canción de  autor es protagonista. \nArtistas: Mariela Puentes; Facundo Jofré; Mamma Soul (Chile) y La Charo (Tonolec).[/vc_column_text][/vc_column][/vc_row][vc_row][vc_column][vc_single_image image=»50171″ img_size=»full»][/vc_column][/vc_row] \n
URL:https://www.godoycruz.gob.ar/evento/5o-semana-las-letras-ix-festival-del-cantar-opinando/
LOCATION:Colón 27\, Godoy Cruz\, Mendoza\, 5501\, Argentina
ATTACH;FMTTYPE=image/jpeg:https://www.godoycruz.gob.ar/wp-content/uploads/2018/06/Cantar-opinando.jpg
END:VEVENT
END:VCALENDAR