BEGIN:VCALENDAR
VERSION:2.0
PRODID:-//Godoy Cruz - ECPv4.5.8.1//NONSGML v1.0//EN
CALSCALE:GREGORIAN
METHOD:PUBLISH
X-WR-CALNAME:Godoy Cruz
X-ORIGINAL-URL:https://www.godoycruz.gob.ar
X-WR-CALDESC:Events for Godoy Cruz
BEGIN:VEVENT
DTSTART;TZID=UTC-3:20180615T200000
DTEND;TZID=UTC-3:20180615T200000
DTSTAMP:20260423T194337
CREATED:20180606T170622Z
LAST-MODIFIED:20180606T170622Z
UID:50175-1529092800-1529092800@www.godoycruz.gob.ar
SUMMARY:5º Semana de las Letras
DESCRIPTION:[vc_row][vc_column][vc_column_text]20:00 – Presentación del libro “Inconexos”\, de Luciana Condorelli. \n22:00 – El elenco Tostadora Teatro presenta “Impros Mínimas”\, formato teatral que entrelaza historias improvisadas de principio a fin.   \nEntrada gratuita (limitada a la capacidad de la sala). \n[/vc_column_text][/vc_column][/vc_row][vc_row][vc_column][vc_single_image image=»50176″ img_size=»full»][/vc_column][/vc_row] \n
URL:https://www.godoycruz.gob.ar/evento/5o-semana-las-letras/
LOCATION:Tomba 54\, Godoy Cruz\, Mendoza\, 5501\, Argentina
ATTACH;FMTTYPE=image/jpeg:https://www.godoycruz.gob.ar/wp-content/uploads/2018/06/semana-de-las-letras-individuales-INCONEXOS-15-6.jpg
END:VEVENT
END:VCALENDAR