BEGIN:VCALENDAR
VERSION:2.0
PRODID:-//Godoy Cruz - ECPv4.5.8.1//NONSGML v1.0//EN
CALSCALE:GREGORIAN
METHOD:PUBLISH
X-WR-CALNAME:Godoy Cruz
X-ORIGINAL-URL:https://www.godoycruz.gob.ar
X-WR-CALDESC:Events for Godoy Cruz
BEGIN:VEVENT
DTSTART;TZID=UTC-3:20260105T220000
DTEND;TZID=UTC-3:20260105T220000
DTSTAMP:20260420T144019
CREATED:20251222T173209Z
LAST-MODIFIED:20251222T173209Z
UID:133403-1767650400-1767650400@www.godoycruz.gob.ar
SUMMARY:Cabalgata de los Reyes Magos 2026 - Esperando su llegada
DESCRIPTION:[vc_row][vc_column][vc_column_text]La magia y la ilusión reviven con la histórica cabalgata de Melchor\, Gaspar y Baltasar. \nGrandes y chicos podrán vivir una velada llena de encanto\, con una producción teatral y musical inolvidable. \nLa trama estará centrada en la noche más esperada del año\, cuando la ilusión se enciende en familia. \nLibreto y dirección general: Fabián Quiroga \nEntrada libre y gratuita.[/vc_column_text][/vc_column][/vc_row][vc_row][vc_column][vc_single_image image=»133404″ img_size=»full»][/vc_column][/vc_row] \n
URL:https://www.godoycruz.gob.ar/evento/cabalgata-los-reyes-magos-2026-esperando-llegada/
ATTACH;FMTTYPE=image/jpeg:https://www.godoycruz.gob.ar/wp-content/uploads/2025/12/WhatsApp-Image-2025-12-22-at-12.17.11-PM.jpeg
END:VEVENT
END:VCALENDAR