BEGIN:VCALENDAR
VERSION:2.0
PRODID:-//Godoy Cruz - ECPv4.5.8.1//NONSGML v1.0//EN
CALSCALE:GREGORIAN
METHOD:PUBLISH
X-WR-CALNAME:Godoy Cruz
X-ORIGINAL-URL:https://www.godoycruz.gob.ar
X-WR-CALDESC:Events for Godoy Cruz
BEGIN:VEVENT
DTSTART;TZID=UTC-3:20250319T210000
DTEND;TZID=UTC-3:20250319T210000
DTSTAMP:20260423T122118
CREATED:20250314T171114Z
LAST-MODIFIED:20250319T141200Z
UID:122368-1742418000-1742418000@www.godoycruz.gob.ar
SUMMARY:Concierto de Maestros
DESCRIPTION:[vc_row][vc_column][vc_column_text]Actuarán prestigiosos docentes y músicos de la Facultad de Artes y Diseño (UNCuyo)\, en el marco de la 7° Cohorte de la Maestría en Interpretación de Música Latinoamericana del Siglo XX y XXI. \nEl programa de este magistral encuentro musical está integrado por obras de autores latinoamericanos. \nMúsicos: \nNahuel Romero Paschero (guitarra).\nGraciela Oddone (canto).\nBeatriz Plana (flauta).\nElena Dabul y Fernando Viani (piano).\nNykolay Grózdev (violonchelo). \nEntrada libre y gratuita[/vc_column_text][/vc_column][/vc_row][vc_row][vc_column][vc_single_image image=»122552″ img_size=»full»][/vc_column][/vc_row] \n
URL:https://www.godoycruz.gob.ar/evento/concierto-de-maestros1/
ATTACH;FMTTYPE=image/jpeg:https://www.godoycruz.gob.ar/wp-content/uploads/2025/03/485622095_974479131537663_7870606541637561429_n.jpg
END:VEVENT
END:VCALENDAR