BEGIN:VCALENDAR
VERSION:2.0
PRODID:-//Godoy Cruz - ECPv4.5.8.1//NONSGML v1.0//EN
CALSCALE:GREGORIAN
METHOD:PUBLISH
X-WR-CALNAME:Godoy Cruz
X-ORIGINAL-URL:https://www.godoycruz.gob.ar
X-WR-CALDESC:Events for Godoy Cruz
BEGIN:VEVENT
DTSTART;TZID=UTC-3:20260430T210000
DTEND;TZID=UTC-3:20260430T210000
DTSTAMP:20260424T172231
CREATED:20260424T132038Z
LAST-MODIFIED:20260424T132038Z
UID:136894-1777582800-1777582800@www.godoycruz.gob.ar
SUMMARY:Día internacional de la Danza 2026
DESCRIPTION:[vc_row][vc_column][vc_column_text]El Teatro Plaza abre el telón para celebrar el Día Internacional de la Danza\, con la actuación del Ballet Municipal y varios elencos invitados. \nGodoy Cruz se prepara para disfrutar de una noche donde el arte\, la expresión y la diversidad de la danza se hacen presente. \nLas entradas están a la venta para el público general y se pueden adquirir comunicándose al 2616321948 (WhatsApp). \nEn el año 1982 se instauró el 29 de abril como Día Internacional de la Danza\, para recordar el nacimiento del bailarín y coreógrafo francés Jean Georges Noverre\, considerado el creador del ballet moderno. \nEn su honor\, el municipio será parte de esta celebración que hace honor al poder expresivo de la danza\, con un reconocimiento a diferentes instituciones que exploran esta disciplina a nivel local. \nArtistas:\nBallet Municipal de Godoy Cruz.\nEstudio Estrella Rocio Magni.\nVanina Gispert Studio.\nAcademia Florencia Finochietto Multiespacio.\nPaula Giuffrida Danza y Bienestar.\nAndromeda Dance School.\nCompañía Etérea.\nBallet Gualey.[/vc_column_text][/vc_column][/vc_row][vc_row][vc_column][vc_single_image image=»136893″ img_size=»full»][/vc_column][/vc_row] \n
URL:https://www.godoycruz.gob.ar/evento/dia-internacional-la-danza-2026/
LOCATION:Colón 27\, Godoy Cruz\, Mendoza\, 5501\, Argentina
ATTACH;FMTTYPE=image/jpeg:https://www.godoycruz.gob.ar/wp-content/uploads/2026/04/673842282_18313637860275203_5701566077653414640_n.jpg
END:VEVENT
END:VCALENDAR