BEGIN:VCALENDAR
VERSION:2.0
PRODID:-//Godoy Cruz - ECPv4.5.8.1//NONSGML v1.0//EN
CALSCALE:GREGORIAN
METHOD:PUBLISH
X-WR-CALNAME:Godoy Cruz
X-ORIGINAL-URL:https://www.godoycruz.gob.ar
X-WR-CALDESC:Events for Godoy Cruz
BEGIN:VEVENT
DTSTART;TZID=UTC-3:20180622T220000
DTEND;TZID=UTC-3:20180622T220000
DTSTAMP:20260424T070611
CREATED:20180531T183408Z
LAST-MODIFIED:20180531T183408Z
UID:49904-1529704800-1529704800@www.godoycruz.gob.ar
SUMMARY:Impros Mínimas
DESCRIPTION:[vc_row][vc_column][vc_column_text]Elenco: Tostadora Teatro. Idea Original: Sergio Paris. \nObra de teatro improvisada\, de principio a fin\, que representa situaciones cotidianas en tiempo real\, con una serie de personajes comunes y complejos a la vez.[/vc_column_text][/vc_column][/vc_row][vc_row][vc_column][vc_single_image image=»49901″ img_size=»full»][/vc_column][/vc_row] \n
URL:https://www.godoycruz.gob.ar/evento/impros-minimas-2/
LOCATION:Tomba 54\, Godoy Cruz\, Mendoza\, 5501\, Argentina
ATTACH;FMTTYPE=image/jpeg:https://www.godoycruz.gob.ar/wp-content/uploads/2018/05/Minimas-8-y-22-junio-1.jpg
END:VEVENT
END:VCALENDAR