BEGIN:VCALENDAR
VERSION:2.0
PRODID:-//Godoy Cruz - ECPv4.5.8.1//NONSGML v1.0//EN
CALSCALE:GREGORIAN
METHOD:PUBLISH
X-WR-CALNAME:Godoy Cruz
X-ORIGINAL-URL:https://www.godoycruz.gob.ar
X-WR-CALDESC:Events for Godoy Cruz
BEGIN:VEVENT
DTSTART;TZID=UTC-3:20180711T153000
DTEND;TZID=UTC-3:20180711T153000
DTSTAMP:20260425T163200
CREATED:20180708T000832Z
LAST-MODIFIED:20180708T000832Z
UID:50807-1531323000-1531323000@www.godoycruz.gob.ar
SUMMARY:Invierno en Godoy Cruz - Mediateca infantil
DESCRIPTION:[vc_row][vc_column][vc_column_text]Del 9 al 22 de julio. 15:30 y 17:30. Mediateca infantil. B+M. $100 \nMiércoles 11 – Obras: «El chino Chin-Chan» (15:30h) y «Nariazul» (17:30h). Elenco: La nave de Ulises.[/vc_column_text][/vc_column][/vc_row][vc_row][vc_column][vc_single_image image=»50808″ img_size=»full»][/vc_column][/vc_row] \n
URL:https://www.godoycruz.gob.ar/evento/invierno-godoy-cruz-mediateca-infantil-3/
LOCATION:Tomba 54\, Godoy Cruz\, Mendoza\, 5501\, Argentina
ATTACH;FMTTYPE=image/jpeg:https://www.godoycruz.gob.ar/wp-content/uploads/2018/07/web-Mediateca-invierno-GC-2018.jpg
END:VEVENT
END:VCALENDAR