BEGIN:VCALENDAR
VERSION:2.0
PRODID:-//Godoy Cruz - ECPv4.5.8.1//NONSGML v1.0//EN
CALSCALE:GREGORIAN
METHOD:PUBLISH
X-WR-CALNAME:Godoy Cruz
X-ORIGINAL-URL:https://www.godoycruz.gob.ar
X-WR-CALDESC:Events for Godoy Cruz
BEGIN:VEVENT
DTSTART;TZID=UTC-3:20180519T160000
DTEND;TZID=UTC-3:20180519T160000
DTSTAMP:20260423T085340
CREATED:20180518T161144Z
LAST-MODIFIED:20180518T161144Z
UID:49489-1526745600-1526745600@www.godoycruz.gob.ar
SUMMARY:Milonga en “Sonrisas Otoñales”
DESCRIPTION:[vc_row][vc_column][vc_column_text]Clases de 2×4 con los profesores Rodrigo Tapia y Carolina Gutiérrez. \nMúsica en vivo con la agrupación “Vizcachazo Tango”. \nCentro de la Tercera Edad “Sonrisas otoñales” (Calle Lamadrid 2204).[/vc_column_text][/vc_column][/vc_row][vc_row][vc_column][vc_single_image image=»49490″ img_size=»full»][/vc_column][/vc_row][vc_row][vc_column][vc_gmaps link=»#E-8_JTNDaWZyYW1lJTIwc3JjJTNEJTIyaHR0cHMlM0ElMkYlMkZ3d3cuZ29vZ2xlLmNvbSUyRm1hcHMlMkZlbWJlZCUzRnBiJTNEJTIxMW0xOCUyMTFtMTIlMjExbTMlMjExZDMzNDkuNzIzODgwMzUxMDI3NyUyMTJkLTY4Ljg3MjA3MzY4NTE5OTY4JTIxM2QtMzIuOTA1NDY3OTgwOTMzMzMlMjEybTMlMjExZjAlMjEyZjAlMjEzZjAlMjEzbTIlMjExaTEwMjQlMjEyaTc2OCUyMTRmMTMuMSUyMTNtMyUyMTFtMiUyMTFzMHg5NjdlMDlhMmQ3YzY1YzMxJTI1M0EweDhjMmU3NGU3MTQ5YTdlMCUyMTJzQ2VudHJvJTJCZGUlMkJsYSUyQlRlcmNlcmElMkJFZGFkJTJCU29ucmlzYXMlMkJPdG8lMjVDMyUyNUIxYWxlcyUyMTVlMCUyMTNtMiUyMTFzZXMtNDE5JTIxMnNhciUyMTR2MTUyNjY1OTYyNzcyMCUyMiUyMHdpZHRoJTNEJTIyNDAwJTIyJTIwaGVpZ2h0JTNEJTIyMzAwJTIyJTIwZnJhbWVib3JkZXIlM0QlMjIwJTIyJTIwc3R5bGUlM0QlMjJib3JkZXIlM0EwJTIyJTIwYWxsb3dmdWxsc2NyZWVuJTNFJTNDJTJGaWZyYW1lJTNF»][/vc_column][/vc_row] \n
URL:https://www.godoycruz.gob.ar/evento/milonga-sonrisas-otonales/
ATTACH;FMTTYPE=image/jpeg:https://www.godoycruz.gob.ar/wp-content/uploads/2018/05/Flyer-milonga-sonrisas-otoñales-2.jpg
END:VEVENT
END:VCALENDAR