BEGIN:VCALENDAR
VERSION:2.0
PRODID:-//Godoy Cruz - ECPv4.5.8.1//NONSGML v1.0//EN
CALSCALE:GREGORIAN
METHOD:PUBLISH
X-WR-CALNAME:Godoy Cruz
X-ORIGINAL-URL:https://www.godoycruz.gob.ar
X-WR-CALDESC:Events for Godoy Cruz
BEGIN:VEVENT
DTSTART;TZID=UTC-3:20260307T180000
DTEND;TZID=UTC-3:20260307T180000
DTSTAMP:20260423T103414
CREATED:20260304T160653Z
LAST-MODIFIED:20260304T160653Z
UID:135336-1772906400-1772906400@www.godoycruz.gob.ar
SUMMARY:Mujeres Unidas: De la Resiliencia a la Transformación
DESCRIPTION:[vc_row][vc_column][vc_column_text]En la víspera del Día Internacional de la Mujer\, la Biblioteca + Mediateca de Godoy Cruz presenta una propuesta para compartir\, reflexionar y fortalecer lazos. \n«Mujeres Unidas” surgió en 2016 como un programa de radio. \nLa conducción está a cargo de la Licenciada Stella Maris Vega y Betsabé Alejandra Agüero\, especialista y diplomada en violencia de género. \nEste será un show en vivo con el formato que propone el envío radial. \nEn esta presentación especial habrá especialistas invitados relacionados a la temática mencionada\, sorteos y un show musical a cargo de Milagros Moyano. \nEntrada gratuita.[/vc_column_text][/vc_column][/vc_row][vc_row][vc_column][vc_single_image image=»135337″ img_size=»full»][/vc_column][/vc_row] \n
URL:https://www.godoycruz.gob.ar/evento/mujeres-unidas-la-resiliencia-la-transformacion/
LOCATION:Tomba 54\, Godoy Cruz\, Mendoza\, 5501\, Argentina
ATTACH;FMTTYPE=image/jpeg:https://www.godoycruz.gob.ar/wp-content/uploads/2026/03/644949642_1245592467759660_713658715467478689_n.jpg
END:VEVENT
END:VCALENDAR