BEGIN:VCALENDAR
VERSION:2.0
PRODID:-//Godoy Cruz - ECPv4.5.8.1//NONSGML v1.0//EN
CALSCALE:GREGORIAN
METHOD:PUBLISH
X-WR-CALNAME:Godoy Cruz
X-ORIGINAL-URL:https://www.godoycruz.gob.ar
X-WR-CALDESC:Events for Godoy Cruz
BEGIN:VEVENT
DTSTART;TZID=UTC-3:20220414T183000
DTEND;TZID=UTC-3:20220414T183000
DTSTAMP:20260420T215240
CREATED:20220405T161530Z
LAST-MODIFIED:20220406T133229Z
UID:88277-1649961000-1649961000@www.godoycruz.gob.ar
SUMMARY:Música Clásica por los Caminos del Vino
DESCRIPTION:[vc_row][vc_column][vc_column_text]Vuelve el ciclo de conciertos de Semana Santa en lugares emblemáticos del departamento. \nPropuesta artística: \nConcierto «Barroco con Ñ»\, del dúo Nautas (Ramiro Albino y Griselda López Zalba). \nEntrada gratuita. \nVía online: https://bit.ly/EntradasBarrocoConÑ[/vc_column_text][/vc_column][/vc_row][vc_row][vc_column][/vc_column][/vc_row][vc_row][vc_column][vc_single_image image=»88319″ img_size=»full»][/vc_column][/vc_row] \n
URL:https://www.godoycruz.gob.ar/evento/musica-clasica-los-caminos-del-vino-1/
ATTACH;FMTTYPE=image/jpeg:https://www.godoycruz.gob.ar/wp-content/uploads/2022/04/WhatsApp-Image-2022-04-05-at-16.49.04.jpeg
END:VEVENT
END:VCALENDAR