BEGIN:VCALENDAR
VERSION:2.0
PRODID:-//Godoy Cruz - ECPv4.5.8.1//NONSGML v1.0//EN
CALSCALE:GREGORIAN
METHOD:PUBLISH
X-WR-CALNAME:Godoy Cruz
X-ORIGINAL-URL:https://www.godoycruz.gob.ar
X-WR-CALDESC:Events for Godoy Cruz
BEGIN:VEVENT
DTSTART;TZID=UTC-3:20260503T200000
DTEND;TZID=UTC-3:20260503T200000
DTSTAMP:20260421T112834
CREATED:20260420T152823Z
LAST-MODIFIED:20260420T152823Z
UID:136760-1777838400-1777838400@www.godoycruz.gob.ar
SUMMARY:Paz Martínez - 50 Años de Amor
DESCRIPTION:[vc_row][vc_column][vc_column_text]Paz Martínez llega a Mendoza con “50 Años de Amor” y una noche de canciones inolvidables. \nEl destacado cantante y compositor celebra 5 décadas de trayectoria con un nuevo show. \nEn esta puesta recorrerá aquellos temas que lo posicionaron en un lugar de privilegio dentro del cancionero popular argentino. \nMultipremiado como compositor en Latinoamérica y Estados Unidos\, Paz Martínez ha grabado inolvidables obras con artistas a nivel nacional e internacional. \nSus letras acompañan a grandes nombres de la escena como Mercedes Sosa; Armando Manzanero; Luciano Pereyra; Ricky Martin; Valeria Lynch; Paloma San Basilio; María Marta Serra Lima o Estela Raval\, entre otros. \nLas entradas se pueden obtener vía online en https://bit.ly/PazMartinezTeatroPlaza o en la boletería del teatro (Colón 27\, Godoy Cruz)\, de lunes a viernes de 9 a 14hs.[/vc_column_text][/vc_column][/vc_row][vc_row][vc_column][vc_single_image image=»136761″ img_size=»full»][/vc_column][/vc_row] \n
URL:https://www.godoycruz.gob.ar/evento/paz-martinez-50-anos-amor/
LOCATION:Colón 27\, Godoy Cruz\, Mendoza\, 5501\, Argentina
ATTACH;FMTTYPE=image/png:https://www.godoycruz.gob.ar/wp-content/uploads/2026/04/PAZ-MARTINEZ-MENDOZA-1080X1080.png
END:VEVENT
END:VCALENDAR