BEGIN:VCALENDAR
VERSION:2.0
PRODID:-//Godoy Cruz - ECPv4.5.8.1//NONSGML v1.0//EN
CALSCALE:GREGORIAN
METHOD:PUBLISH
X-WR-CALNAME:Godoy Cruz
X-ORIGINAL-URL:https://www.godoycruz.gob.ar
X-WR-CALDESC:Events for Godoy Cruz
BEGIN:VEVENT
DTSTART;TZID=UTC-3:20250323T180000
DTEND;TZID=UTC-3:20250323T180000
DTSTAMP:20260423T192104
CREATED:20250319T143549Z
LAST-MODIFIED:20250320T123942Z
UID:122559-1742752800-1742752800@www.godoycruz.gob.ar
SUMMARY:Pintó Peña
DESCRIPTION:[vc_row][vc_column][vc_column_text]Pintó Peña llega a Godoy Cruz con artistas de primer nivel\, artesanos y puestos de comida. \nHabrá espectáculos musicales en vivo y danzas autóctonas\, con ballets invitados de toda la provincia. \nGrilla de artistas: Diablito Martines\, La Rienda\, Germán Olivares\, Profecía Folk\, La Huella\, Bohemios\, Sueños Cuyanos\, Ballet Gualey\, Ballet Chakaymanta\, Querencia Criolla. \nInvitados: Árbol de Vida\, Entre Bombos y Pañuelos\, Latidos con sangre de folklore. \nEntradas online en venta por https://bit.ly/4gG6mjp \nAl alias pintobaile y enviando el comprobante de compra por WhatsApp al 2616999032.[/vc_column_text][/vc_column][/vc_row][vc_row][vc_column][vc_single_image image=»122609″ img_size=»full»][/vc_column][/vc_row] \n
URL:https://www.godoycruz.gob.ar/evento/pinto-pena1/
ATTACH;FMTTYPE=image/jpeg:https://www.godoycruz.gob.ar/wp-content/uploads/2025/03/WhatsApp-Image-2025-03-19-at-1.07.46-PM.jpeg
END:VEVENT
END:VCALENDAR