BEGIN:VCALENDAR
VERSION:2.0
PRODID:-//Godoy Cruz - ECPv4.5.8.1//NONSGML v1.0//EN
CALSCALE:GREGORIAN
METHOD:PUBLISH
X-WR-CALNAME:Godoy Cruz
X-ORIGINAL-URL:https://www.godoycruz.gob.ar
X-WR-CALDESC:Events for Godoy Cruz
BEGIN:VEVENT
DTSTART;TZID=America/Argentina/Mendoza:20220416T210000
DTEND;TZID=America/Argentina/Mendoza:20220416T210000
DTSTAMP:20260420T215320
CREATED:20220411T015143Z
LAST-MODIFIED:20220411T021604Z
UID:88438-1650142800-1650142800@www.godoycruz.gob.ar
SUMMARY:"Spicy Jam" 1era Zapada de Mujeres y Disidencias
DESCRIPTION:[vc_row][vc_column][vc_column_text]Llega al Cine Teatro Plaza la Primera Zapada de Mujeres y Disidencias «Spicy Jam» \n[/vc_column_text][/vc_column][/vc_row][vc_row][vc_column][vc_single_image image=»88439″ img_size=»full»][/vc_column][/vc_row] \n
URL:https://www.godoycruz.gob.ar/evento/spicy-jam-1era-zapada-mujeres-disidencias/
LOCATION:Colon 27\, Godoy Cruz\, Mendoza\, Argentina
ATTACH;FMTTYPE=image/jpeg:https://www.godoycruz.gob.ar/wp-content/uploads/2022/04/WhatsApp-Image-2022-04-06-at-13.23.09.jpeg
END:VEVENT
END:VCALENDAR